BEGIN:VCALENDAR
PRODID:-//eluceo/ical//2.0/EN
VERSION:2.0
CALSCALE:GREGORIAN
BEGIN:VEVENT
UID:37d99267c2935a73e8cf74e749889e02
DTSTAMP:20260423T130528Z
SUMMARY:Podnikatelská mise na západní Ukrajinu
DESCRIPTION:Název akce: Podnikatelská mise na západní Ukrajinu\nURL: ht
 tps://www.spcr.cz/podnikatelska-mise-na-zapadni-ukrajinu\nPopis: \n\nVe dn
 ech 4. – 10. června Business klub Ukrajina a MPO ve spolupráci se SP 
 ČR organizují podnikatelskou misi na západní Ukrajinu vedenou ředitel
 em Odboru evropských zemí Martinem Pospíšilem. Během cesty podnikatel
 ská delegace navštíví města Rivne\, Ivano-Frankivsk a zúčastní se
  Západoukrajinského exportního fóra ve Lvově\, kde se představí zá
 stupci podnikatelské i státní správy z 8 západoukrajinských oblast
 í. Součástí akce budou B2B jednání\, jednání s představiteli mí
 stních firem\, regionálních samospráv a municipalit. V případě z
 ájmu nás kontaktujte na adrese ukrajina@mpo.cz. Kapacita je omezená.\nV
  regionech\, kam míří naše cesta\, dominují tyto oblasti průmyslu: 
 zemědělství\, zpracování dřeva\, výroby stavebních materiálů\, a
 lternativní energetiky\, potravinářství a logistiky (těžba ropy\, ch
 emický průmysl\, mechanické inženýrství a lehký průmysl-Lvovská o
 blast).\nInformace k cestě: Ze strany GK Lvov bude zajištěna doprava v
  místě a rezervace ubytování pro účastníky delegace ve Lvově a Ri
 vne (ubytování a cestu na a z Ukrajiny si budou muset účastníci hradi
 t sami)\, rezervaci prostoru pro uskutečnění B2B setkání v Rivne a Iv
 ano-Frankivsku. Partneři v Rivne a Ivano-Frankivsku přislíbili přizvá
 ní tamních firem.\nPředběžný návrh programu je:\n\n4.6. - odjezd z
  Prahy spojem RegioJet ve 22:00\n5.6. - příjezd do Lvova\, ubytování
 \, volný čas\, večeře // variantně přejezd přímo do města Rivne\n
 6.6. - přesun do Rivne (cca 4 hodiny)\, B2B setkání\, jednání s před
 staviteli Rivnenské oblasti\, ubytování\, večeře\, možnost návště
 vy nějakého místního podniku\, např. působícího ve sféře výroby
  nábytku\n7.6. - řesun do Ivano-Frankivsku (cca 4\,5 hodiny)\, B2B setk
 ání\, jednání s představiteli Ivano-Frankivské oblasti\, návrat do 
 Lvova (cca 2 hodiny)\, ubytování\, večeře\n8.6. - Západoukrajinské e
 xportní fórum\, setkání s představiteli Lvovské oblasti\, večeře\n
 9.6. - možnost návštěvy místní firmy podle složení členů delegac
 i // návrat do ČR opět spojem RegioJet 19:10 ze Lvova\n10.6. - příjez
 d do Prahy\n
URL:https://www.spcr.cz/podnikatelska-mise-na-zapadni-ukrajinu
DTSTART:20230604T220000
DTEND:20230610T073500
LOCATION:
END:VEVENT
END:VCALENDAR
