BEGIN:VCALENDAR
PRODID:-//eluceo/ical//2.0/EN
VERSION:2.0
CALSCALE:GREGORIAN
BEGIN:VEVENT
UID:f0aaadf7f74c6e1441babfa7920ab0db
DTSTAMP:20260423T162828Z
SUMMARY:Pozvánka na podnikatelské setkání a B2B s tureckými firmami
DESCRIPTION:Název akce: Pozvánka na podnikatelské setkání a B2B s ture
 ckými firmami\nURL: https://www.spcr.cz/pozvanka-na-podnikatelske-setkani
 -b2b-s-tureckymi-firmami\nPopis: \n\nSvaz průmyslu a dopravy ČR a Hospo
 dářská komora ČR si Vás dovoluje pozvat na podnikatelské setkání 
 a B2B jednání s tureckými firmami. Akce se uskuteční ve čtvrtek 1. 
 6.2023 od 10:00 do17:00 v Clarion Congress Hotelu na adrese Freyova 33\, 
 180 00 Praha 8.\nCílem akce je navázat kontakty a získat partnery z Č
 eské Republiky zejména v následujících oborech: elektronika\, automo
 tive\, chemický průmysl\, textilní a potravinářský průmysl.\nSeznam
  tureckých firem včetně oborového zaměření a kontaktů najdete v p
 řiložené tabulce: Trade Delegation_Turkish Companies nebo na stránk
 ách Czech Republic (Prague) Trade Delegation – Participant Turkish Com
 panies (tim.org.tr).\nNa akci se můžete registrovat zde\, účast na set
 kání je zdarma. Jednacím jazykem bude angličtina.\n \nPředběžný p
 rogram:\n\n\n\n01 June 2023\, Thursday\n\n\n09:30 – 10:00\nRegistration 
 for B2B Meetings\n\n\n10:00 – 10:30\nOpening Ceremony (Speeches):\nMr. M
 ustafa GÜLTEPE\nPresident\, Türkiye Exporters Assembly (TİM)\nRepresent
 ative of the Czech Chamber of Commerce\n(to be confirmed)\nRepresentative 
 of the Confederation of Industry of the Czech Republic (SPCR)\n(to be conf
 irmed)\nH.E. Egemen BAĞIŞAmbassador of Türkiye to The Czech Republic\, 
 Turkish Embassy in Prague\n\n\n\n10:30 – 11:00\nCoffee Break\n\n\n10:30 
 – 17:00\nB2B Meetings between Turkish and Czech Companies\n\n\n12:00 –
  13:30\nNetworking lunch\n\n\n15:00 – 15:30\nCoffee Break\n\n\n17:00\nEn
 d of the event\n
URL:https://www.spcr.cz/pozvanka-na-podnikatelske-setkani-b2b-s-tureckymi-f
 irmami
DTSTART:20230601T100000
DTEND:20230601T170000
LOCATION:
END:VEVENT
END:VCALENDAR
