BEGIN:VCALENDAR
PRODID:-//eluceo/ical//2.0/EN
VERSION:2.0
CALSCALE:GREGORIAN
BEGIN:VEVENT
UID:e948625eca5ff7a851e73e3e50d827eb
DTSTAMP:20260423T150245Z
SUMMARY:Podnikatelská mise do Angoly a Zambie
DESCRIPTION:Název akce: Podnikatelská mise do Angoly a Zambie\nURL: https
 ://www.spcr.cz/podnikatelska-mise-do-angoly-zambie\nPopis: \n\nDovolujeme 
 si Vás pozvat k účasti v podnikatelské delegaci\, která bude doprová
 zet ministra zahraničních věcí ČR Jana Lipavského do Angoly a Zambie
  ve dnech 12.–16. června 2023.\n\n Svaz průmyslu a dopravy ČR zorgan
 izuje ve spolupráci s Velvyslanectvím ČR v Pretorii (působnost pro An
 golu)\, s Velvyslanectvím ČR v Lusace a partnery podnikatelská fóra 
 s B2B jednáními a další program. Účast v delegaci doporučujeme zej
 ména firmám z oblasti zemědělství\, zdravotnictví\, těžebního pr
 ůmyslu a energetiky se zaměřením na zelenou energii.\nDo Angoly platí
  povinnost být očkován proti žluté zimnici a dále se prokázat covid
  pasem (alespoň 2 očkovací dávky). \nTermín přihlašování je stano
 ven do 23. května 2023.\nZde k dispozici pozvánka a přihláška. Souča
 sně s přihláškou je nutné vyplnit i elektronický formulář\, který
  obsahuje informace nezbytné pro Vaše uvedení v katalogu podnikatelské
  mise\, vyhledání vhodných partnerů pro B2B networking\, ale i pro odb
 avení v letadle vládní letky či ubytování v hotelu.\nV případě z
 ájmu zúčastnit se mise do uvedeného termínu vyplňte a zašlete onlin
 e veškeré podklady (vč. informací o Vaší společnosti do prezentace)
  a fyzicky doručte Váš pas a podklady na víza (instrukce k vízovým
  požadavkům Vám zašleme obratem po Vašem přihlášení). \nV příp
 adě dotazů kontaktujte manažera Sekce vnějších vztahů Ing. Martin N
 atafaluši (mnatafalusi@spcr.cz). \nZ důvodů omezené kapacity ve vlá
 dním speciálu nám operativně dejte vědět Váš zájem o misi\, abych
 om Vám mohli držet místo v delegaci\, zatímco budete vyplňovat vešk
 eré podklady k misi.\n
URL:https://www.spcr.cz/podnikatelska-mise-do-angoly-zambie
DTSTART:20230612T080000
DTEND:20230616T235959
LOCATION:
END:VEVENT
END:VCALENDAR
