BEGIN:VCALENDAR
PRODID:-//eluceo/ical//2.0/EN
VERSION:2.0
CALSCALE:GREGORIAN
BEGIN:VEVENT
UID:d7c49fa0d471b372316f913e2192d686
DTSTAMP:20260423T213424Z
SUMMARY:Zjednodušené podmínky čerpání POVEZ II
DESCRIPTION:Název akce: Zjednodušené podmínky čerpání POVEZ II\nURL:
  https://www.spcr.cz/zjednodusene-podminky-cerpani-povez-ii-0\nPopis: \n\n
 Zveme vás na webinář pro zaměstnavatele ke zjednodušeným podmínkám
  čerpání zbývajících finančních prostředků na školení zaměstn
 anců v rámci projektu ÚP ČR „Podpora odborného vzdělávání zamě
 stnanců II (POVEZ II) organizovaný ve spolupráci s Krajskou pobočkou 
 ÚP ČR v Hradci Králové.\nPředstaveny budou novinky\, které souvisí
  se změnou Podmínek projektu od 19.4.2023\, pro závěrečnou fázi proj
 ektu. Možnost školit až do 31.10.2023.\nPodpora výuky interním lekto
 rem\, podpora měkkých dovedností 100%\, výuka ČJ pro cizince\, zjedno
 dušení administrativy\, apod.\nRegistrujte se prosím zde.\n \n \n
URL:https://www.spcr.cz/zjednodusene-podminky-cerpani-povez-ii-0
DTSTART:20230518T130000
DTEND:20230518T140000
LOCATION:
END:VEVENT
END:VCALENDAR
