BEGIN:VCALENDAR
PRODID:-//eluceo/ical//2.0/EN
VERSION:2.0
CALSCALE:GREGORIAN
BEGIN:VEVENT
UID:5b0bc1896c1cdb22bb10c555c3f7926c
DTSTAMP:20260423T130518Z
SUMMARY:BUS2BUS – Mezinárodní veletrh autobusové dopravy
DESCRIPTION:Název akce: BUS2BUS – Mezinárodní veletrh autobusové dopr
 avy\nURL: https://www.spcr.cz/bus2bus-mezinarodni-veletrh-autobusove-dopra
 vy\nPopis: \n\nBUS2BUS je spojením veletrhu\, diskusního fóra\, prezent
 ací a workshopů\, díky čemuž pokrývá celé spektrum oboru a předs
 tavuje nejnovější trendy a inovace v autobusovém průmyslu. Důležit
 ým tématem ročníku 2024 bude udržitelná mobilita. \nVystavovatelé 
 jsou rozděleni do těchto oblastí:\n\nMěstské a dálkové autobusy\,\n
 Komponenty a příslušenství\,\nPohodlí a design\,\nDigitální služby
 \,\nÚdržba\, služby a infrastruktura\,\nFresh Travel\,\nMédia a asocia
 ce.\n\nDo 31. října 2023 platí výrazná sleva na výstavní plochu\, a
  to až 50 EUR za m2.Důležité informace k přihlášení.Kontakt na č
 eské zastoupení veletrhu BUS2BUS:Česko-německá obchodní a průmyslov
 á komoraOddělení veletrhů (+420 221 490 310\, messe1@dtihk.cz)\n
URL:https://www.spcr.cz/bus2bus-mezinarodni-veletrh-autobusove-dopravy
DTSTART:20240424T000000
DTEND:20240425T235959
LOCATION:
END:VEVENT
END:VCALENDAR
