BEGIN:VCALENDAR
PRODID:-//eluceo/ical//2.0/EN
VERSION:2.0
CALSCALE:GREGORIAN
BEGIN:VEVENT
UID:b5bc286539e7be217c01c29375e67484
DTSTAMP:20260423T130400Z
SUMMARY:Seminář o obchodních příležitostech v Mexiku\, Kolumbii\, Gua
 temale a Panamě
DESCRIPTION:Název akce: Seminář o obchodních příležitostech v Mexiku
 \, Kolumbii\, Guatemale a Panamě\nURL: https://www.spcr.cz/seminar-o-obch
 odnich-prilezitostech-v-mexiku-kolumbii-guatemale-paname\nPopis: \n\nOdbor
  ekonomické diplomacie Ministerstva zahraničních věcí si Vás dovoluj
 e pozvat na seminář o aktuálních obchodních a podnikatelských příl
 ežitostech pro české firmy v Mexiku\, Kolumbii\, Guatemale a Panamě\, 
 který proběhne v pondělí 22. května od 15:00 hodin v Černínském pa
 láci v Praze.\nNa seminář se registrujte na emailu: AkceOED@mzv.cz\nV
 íce informací na stránkách Moderní ekonomické diplomacie \n \n
URL:https://www.spcr.cz/seminar-o-obchodnich-prilezitostech-v-mexiku-kolumb
 ii-guatemale-paname
DTSTART:20230522T150000
DTEND:20230522T190000
LOCATION:
END:VEVENT
END:VCALENDAR
