BEGIN:VCALENDAR
PRODID:-//eluceo/ical//2.0/EN
VERSION:2.0
CALSCALE:GREGORIAN
BEGIN:VEVENT
UID:4e21f2fb1e7bb6654d9d40251e391bd5
DTSTAMP:20260423T124932Z
SUMMARY:Podnikatelská mise do Vídně – Smart Cities
DESCRIPTION:Název akce: Podnikatelská mise do Vídně – Smart Cities\nU
 RL: https://www.spcr.cz/podnikatelska-mise-do-vidne-smart-cities\nPopis: \
 n\nZveme Vás k účasti v podnikatelské misi do Vídně. Mise je organi
 zovaná Svazem průmyslu a dopravy ČR z pověření předsedy Senátu P
 ČR. Podnikatelskou misi povede předseda expertního týmu SP ČR pro udr
 žitelnost a člen Rady vlády pro udržitelný rozvoj Petr Jonák. Na org
 anizaci programu na místě se podílí Velvyslanectví ČR ve Vídni ve s
 polupráci s místními partnery.\nTěšíme se na Vás v termínu 14. a 
 15.  června 2023.\nMise se koná při příležitosti pracovní návšt
 ěvy předsedy Senátu PČR Miloše Vystrčila v Rakousku. Návštěva bud
 e v oblasti ekonomické spolupráce zaměřena na oblast Smart Cities\, k
 terými je Vídeň známá\, a to především v oblasti Energy Managemen
 t\, Public Services a Mobility\, a to pro firmy napříč odvětvími.\nV 
 předběžném programu mise počítáme s následujícím harmonogramem 
 (změny vyhrazeny – přesný program je v jednání a bude postupně do
 plňován a upřesňován):\n\nUbytování 1 noc v hotelu DoubleTree by Hi
 lton Vienna Schonbrunn\, Schloßallee 8\, 1140 Wien\nSraz v hotelu 14. 6. 
 do 14:00\, odkud se přesuneme do sousedního Českého velvyslanectví ve
  Vídni\, kde na Vás čekají prezentace organizací magistrátu města V
 ídně o projektech Smart Cities ve Vídni\, a od 16:00 zde proběhne za 
 účasti předsedy Senátu PČR obchodní fórum za přítomnosti klíčov
 ých organizací a firem zapojených do Smart Cities projektů ve Vídni\,
  v rámci kterých budou představeny české firmy v delegaci a bude nás
 ledovat neformální B2B networking\, večer bude následovat společná v
 ečeře české delegace s vybranými hosty\n15. 6. bude hlavním programe
 m dopolední návštěva klíčového projektu Smart Cities ve Vídni\, a 
 to Aspern Smart City Research komplexu a následně špičkového pracovi
 ště AIT (Austrian Institute of Technology) se zaměřením na Smart Citi
 es projekty\, do cca 14:00 návrat zpět do hotelu\nPřepravu do a z Vídn
 ě si účastníci zařizují dle svých preferencí (seznam doporučenýc
 h spojů)\n\nUzávěrka závazných přihlášek je do pondělí 5. červn
 a 2023.\nZálohová cena za účast v podnikatelské delegaci je 17.100\
 ,- Kč včetně DPH pro členy Svazu průmyslu a dopravy ČR a 19.000\,- K
 č včetně DPH pro nečleny. Obsah účastnického balíčku je rozepsá
 n v přihlášce.\nPřihlášení na podnikatelskou misi zahrnuje 2 hlavn
 í kroky: \n\nVyplnění a podepsání závazné přihlášky\, její nask
 enování a zaslání e-mailem na adresu hkotkova@spcr.cz nejpozději do
  pondělí 5. června 2023.\nSoučasně s přihláškou je nutné vyplnit
  i elektronický formulář\, který obsahuje informace nezbytné pro Vaš
 e uvedení v katalogu podnikatelské mise\, vyhledání vhodných partner
 ů pro B2B networking\, ale i pro ubytování v hotelu.\n\nPři vyplňov
 ání profilu mějte prosím na paměti\, že slouží také jako podklad 
 pro výrobu prezentačního tištěného katalogu mise\, jehož cílem je 
 co nejlépe druhou stranu seznámit s profily a kontaktními údaji zúča
 stněných firem. Výrobu katalogu zajišťuje Svaz průmyslu a dopravy Č
 R a v rámci jeho přípravy Vás budeme následně kontaktovat s prosbou
  o dodání fotografie účastníka mise a později s návrhem obsahu str
 ánky k autorizaci. Snahou je vytvořit profesionální a přehledný tiš
 těný materiál s informacemi o všech účastnících.\nProsíme také o
  vyplnění jednoho vzorového snímku v powerpointu do společné preze
 ntace\, která může být promítána v rámci byznys fóra a bude slou
 žit společně s katalogem jako klíčový prvek k představení Vaší
  organizace. Tento krok stačí do 8. června 2023.\nPo obdržení Vaší
  závazné přihlášky a provedení elektronické registrace Vám zašlem
 e další pokyny a zálohovou fakturu na účastnický poplatek. Další 
 podklady a informace Vám budeme průběžně zasílat elektronickou pošt
 ou.\nPodnikatelskou misi organizačně zajišťuje tým Sekce vnějších 
 vztahů SP ČR: manažerka Helena Kotková (hkotkova@spcr.cz\, +420 733 12
 6 501) a manažer Petr Teplý (pteply@spcr.cz\, +420 603 459 521).\nVzhl
 edem k omezené kapacitě prosíme o včasnou registraci. Pořadatelé si
  vyhrazují právo odmítnout zájemce o účast s ohledem na vhodnost ob
 orového zaměření\, či v případě převisu poptávky nad logisticko
 u kapacitou. Děkujeme za pochopení.\nTěšíme se na Vaši účast a spo
 lupráci s Vámi.\n
URL:https://www.spcr.cz/podnikatelska-mise-do-vidne-smart-cities
DTSTART:20230614T000000
DTEND:20230615T235959
LOCATION:
END:VEVENT
END:VCALENDAR
