BEGIN:VCALENDAR
PRODID:-//eluceo/ical//2.0/EN
VERSION:2.0
CALSCALE:GREGORIAN
BEGIN:VEVENT
UID:27e3061bee57ed93cd92e72f5f8c9935
DTSTAMP:20260423T163124Z
SUMMARY:Obchodní příležitosti v Mexiku\, Kolumbii\, Guatemale a Panamě
DESCRIPTION:Název akce: Obchodní příležitosti v Mexiku\, Kolumbii\, Gu
 atemale a Panamě\nURL: https://www.spcr.cz/obchodni-prilezitosti-v-mexiku
 -kolumbii-guatemale-paname\nPopis: \n\nNa semináři vystoupí s informace
 mi o mexickém a guatemalském trhu Zuzana Stiborová\, ekonomická diplom
 atka Velvyslanectví ČR v Mexiku. O příležitostech na kolumbijském a 
 panamském trhu se online podělí Bohdan Malaniuk\, ekonomický diplomat 
 Velvyslanectví ČR v Bogotě.\nÚčastníkům semináře budou prezentova
 t aktuální obchodní a investiční příležitosti na jednotlivých trz
 ích\, ale také informace o kultuře obchodního jednání\, specifikách
  trhů a stavu ekonomiky v každé z těchto zemí.\n\nPodrobnosti k progr
 amu a registrace zde.\n
URL:https://www.spcr.cz/obchodni-prilezitosti-v-mexiku-kolumbii-guatemale-p
 aname
DTSTART:20230522T150000
DTEND:20230522T180000
LOCATION:
END:VEVENT
END:VCALENDAR
