BEGIN:VCALENDAR
PRODID:-//eluceo/ical//2.0/EN
VERSION:2.0
CALSCALE:GREGORIAN
BEGIN:VEVENT
UID:0c5c44fb5fc29058670cc72887e590eb
DTSTAMP:20260423T193625Z
SUMMARY:Aktuální situace v oblasti zaměstnávání cizinců v ČR (Ostra
 va)
DESCRIPTION:Název akce: Aktuální situace v oblasti zaměstnávání cizi
 nců v ČR (Ostrava)\nURL: https://www.spcr.cz/aktualni-situace-v-oblasti-
 zamestnavani-cizincu-v-cr-ostrava\nPopis: \n\nCílem semináře je poskytn
 out užitečné a aktuální informace k zaměstnávání cizinců. Semin
 ář je určen zaměstnavatelům\, kteří hledají odpovědi na otázky\,
  jak legálně zaměstnat kvalifikované zaměstnance ze třetích zemí a
  dalším subjektům\, které mají zájem se blíže seznámit s problema
 tikou zaměstnávání cizinců.\n\nPodrobný program a registrace zde. 
 Registrace na seminář je zdarma.\n\nSeminář organizuje Ministerstvo p
 růmyslu a obchodu ve spolupráci s Ministerstvem zahraničních věcí\, 
 Ministerstvem vnitra\, Ministerstvem práce a sociálních věcí.\n
URL:https://www.spcr.cz/aktualni-situace-v-oblasti-zamestnavani-cizincu-v-c
 r-ostrava
DTSTART:20230620T093000
DTEND:20230620T150000
LOCATION:
END:VEVENT
END:VCALENDAR
