BEGIN:VCALENDAR
PRODID:-//eluceo/ical//2.0/EN
VERSION:2.0
CALSCALE:GREGORIAN
BEGIN:VEVENT
UID:a27d570675e03e7406fa72cab088f74a
DTSTAMP:20260423T150340Z
SUMMARY:Aktuální situace v oblasti zaměstnávání cizinců v ČR (Hrade
 c Králové)
DESCRIPTION:Název akce: Aktuální situace v oblasti zaměstnávání cizi
 nců v ČR (Hradec Králové)\nURL: https://www.spcr.cz/aktualni-situace-v
 -oblasti-zamestnavani-cizincu-v-cr-hradec-kralove\nPopis: \n\nCílem semin
 áře je poskytnout užitečné a aktuální informace k zaměstnávání 
 cizinců. Seminář je určen zaměstnavatelům\, kteří hledají odpově
 di na otázky\, jak legálně zaměstnat kvalifikované zaměstnance ze t
 řetích zemí a dalším subjektům\, které mají zájem se blíže sezn
 ámit s problematikou zaměstnávání cizinců.\n\nPodrobný program a re
 gistrace zde. Registrace na seminář je zdarma.\n\nSeminář organizuj
 e Ministerstvo průmyslu a obchodu ve spolupráci s Ministerstvem zahrani
 čních věcí\, Ministerstvem vnitra\, Ministerstvem práce a sociálníc
 h věcí.\n
URL:https://www.spcr.cz/aktualni-situace-v-oblasti-zamestnavani-cizincu-v-c
 r-hradec-kralove
DTSTART:20230609T093000
DTEND:20230609T144000
LOCATION:
END:VEVENT
END:VCALENDAR
