BEGIN:VCALENDAR
PRODID:-//eluceo/ical//2.0/EN
VERSION:2.0
CALSCALE:GREGORIAN
BEGIN:VEVENT
UID:e4ab8b6d9fcded44285d12901cdcf6a7
DTSTAMP:20260423T194301Z
SUMMARY:Aktuální situace v oblasti zaměstnávání cizinců v ČR (Brno)
DESCRIPTION:Název akce: Aktuální situace v oblasti zaměstnávání cizi
 nců v ČR (Brno)\nURL: https://www.spcr.cz/aktualni-situace-v-oblasti-zam
 estnavani-cizincu-v-cr-brno\nPopis: \n\nCílem semináře je poskytnout u
 žitečné a aktuální informace k zaměstnávání cizinců. Seminář j
 e určen zaměstnavatelům\, kteří hledají odpovědi na otázky\, jak l
 egálně zaměstnat kvalifikované zaměstnance ze třetích zemí a dalš
 ím subjektům\, které mají zájem se blíže seznámit s problematikou 
 zaměstnávání cizinců.\n\nPodrobný program a registrace zde. Regist
 race na seminář je zdarma.\n\nSeminář organizuje Ministerstvo průmys
 lu a obchodu ve spolupráci s Ministerstvem zahraničních věcí\, Minist
 erstvem vnitra\, Ministerstvem práce a sociálních věcí.\n
URL:https://www.spcr.cz/aktualni-situace-v-oblasti-zamestnavani-cizincu-v-c
 r-brno
DTSTART:20230530T093000
DTEND:20230530T144000
LOCATION:
END:VEVENT
END:VCALENDAR
