BEGIN:VCALENDAR
PRODID:-//eluceo/ical//2.0/EN
VERSION:2.0
CALSCALE:GREGORIAN
BEGIN:VEVENT
UID:5cf0d90feda3781f168f973622e20472
DTSTAMP:20260423T163000Z
SUMMARY:Bezpečnost cestování
DESCRIPTION:Název akce: Bezpečnost cestování\nURL: https://www.spcr.cz/
 bezpecnost-cestovani-1\nPopis: \n\nSvaz průmyslu a dopravy České republ
 iky a Krajská hospodářská komora Královéhradeckého kraje vás srde
 čně zvou na seminář o bezpečnosti cestování – Praktické rady pro
  firemní zaměstnance i členy rodiny\, kteří se chystají na cesty.\nC
 ílová skupina:\n\nOsoby cestující do zahraničí (pracovně/soukromě)
 \,\nOrganizace a firmy intenzivně spolupracující se zahraničními subj
 ekty\,\nBezpečnostní\, obchodní\, výkonný a operativní management.\n
 \n Co se naučíte – 2 obsahové linie:\n\nJak snížit rizika souvisej
 ící s (mezinárodním) cestováním\,\nNastavení firemních procesů:\
 n\nSoubor praktických a procedurálních opatření ke zvýšení bezpeč
 nosti personálu\,\nVyjasnění odpovědnosti firmy v této oblasti\,\nRe
 dukci dopadů v případě incidentu.\n\n\n\n Tematický obsah:\n\nZvý
 šení povědomí o rizicích spojených s cestováním do zahraničí\nN
 ežádoucí cizí pozornost – kdo za ní stojí\, jaké cíle sleduje. K
 do je za nežádoucí pozorností vůči nám\, jaké činnosti provádí 
 a s jakým cílem.\n\nTechnologie: Mobilní zařízení – dobrý sluha\
 , ale nebezpečný zrádce\,\nNová rizika odposlechů a sledování\,\nN
 ásilné akce: krádeže\, kompromitace\, nátlak\, vydírání\, úplatky
 \,\nFiremní špionáž\, osobní údaje a soukromí\,\nÚrazy a úmrtí v
  zahraničí.\n\n\n\nČasový harmonogram\n  9:30 – 10:00 prezence ú
 častníků\n10:00 – 11:30 zahájení\, seminář 1. část\n11:30 – 1
 2:00 pauza\, občerstvení\n12:00 – 13:30 seminář 2. část\,\n13:30 
 – 13:50 pauza\, občerstvení\n13:50 – 15:30 seminář 3. část\, dot
 azy\, diskuze (konec dle délky diskuze)\n\nPřednášející\nPřednáše
 jící: Ing. Oldřich Novák\n\nRisk Manager a Travel Security Advisor pro
  nadnárodní společnosti a náročnou klientelu.\n28 let v aktivní voje
 nské službě\,\nOd roku 2001 spojen s protiteroristickými aktivitami\,\
 nTříleté zařazení v NATO\,\n5 misí v Afghánistánu v letech 2002–
 2014\,\n\n\nOceněn:\n\nZáslužný kříž - Ministerstvo Obrany ČR 2019
 \,\nThe Commendation Medal - US Department of Defense\, 2009.\n\n\n\nCENA:
  3600 Kč (vč. DPH) / 2800 Kč (vč. DPH) pro členy Krajské hospodářs
 ké komory KHK\, OHK Liberec nebo SP ČR\nRegistrace: Na setkání se pros
 ím registrujte do 8. 6. 2023 pod tímto odkazem.\n
URL:https://www.spcr.cz/bezpecnost-cestovani-1
DTSTART:20230612T100000
DTEND:20230612T153000
LOCATION:
END:VEVENT
END:VCALENDAR
