BEGIN:VCALENDAR
PRODID:-//eluceo/ical//2.0/EN
VERSION:2.0
CALSCALE:GREGORIAN
BEGIN:VEVENT
UID:cb0cefb52c35bfb7d3cb5d605c4a663e
DTSTAMP:20260423T145027Z
SUMMARY:Bezpečnost cestování
DESCRIPTION:Název akce: Bezpečnost cestování\nURL: https://www.spcr.cz/
 bezpecnost-cestovani-2\nPopis: \n\nSvaz průmyslu a dopravy České republ
 iky vás srdečně zve na seminář o bezpečnosti cestování – Prakti
 cké rady pro firemní zaměstnance i členy rodiny\, kteří se chystají
  na cesty.\nPro koho je seminář určen?\n\nOsoby cestující do zahrani
 čí (pracovně/soukromě)\,\nOrganizace a firmy intenzivně spolupracují
 cí se zahraničními subjekty\,\nBezpečnostní\, obchodní\, výkonný a
  operativní management.\n\nCo se naučíte?\n\nJak snížit rizika souvis
 ející s (mezinárodním) cestováním\,\nNastavení firemních procesů
 :\n\nSoubor praktických a procedurálních opatření ke zvýšení bezpe
 čnosti personálu\,\nVyjasnění odpovědnosti firmy v této oblasti\,\n
 Redukci dopadů v případě incidentu.\n\n\n\nPřednášející: Ing. Ol
 dřich Novák\n\n\n\nRisk Manager a Travel Security Advisor pro nadnárodn
 í společnosti a náročnou klientelu.\n28 let v aktivní vojenské služ
 bě\,\nOd roku 2001 spojen s protiteroristickými aktivitami\,\nTříleté
  zařazení v NATO\,\n5 misí v Afghánistánu v letech 2002 – 2014\,\n\
 n\n\n\nOceněn:\n\nZáslužný kříž - Ministerstvo Obrany ČR 2019\,\nT
 he Commendation Medal - US Department of Defense\, 2009.\n\n\n\nObědové 
 občerstvení zajištěno. Předpokládaný konec 14:30. Cena semináře j
 e 3.600 Kč bez DPH. Pro členy Svazu průmyslu a dopravy ČR 2.800 Kč be
 z DPH\nRegistrujte se pod tímto odkazem do 6. 6. 2023\n
URL:https://www.spcr.cz/bezpecnost-cestovani-2
DTSTART:20230608T100000
DTEND:20230608T150000
LOCATION:
END:VEVENT
END:VCALENDAR
