BEGIN:VCALENDAR
PRODID:-//eluceo/ical//2.0/EN
VERSION:2.0
CALSCALE:GREGORIAN
BEGIN:VEVENT
UID:a237470db00159336d39e5440abaaa5f
DTSTAMP:20260423T162623Z
SUMMARY:Pracovní skupina pro rozvojové země - otevřené zasedání 
DESCRIPTION:Název akce: Pracovní skupina pro rozvojové země - otevřen
 é zasedání \nURL: https://www.spcr.cz/pracovni-skupina-pro-rozvojove-ze
 me-otevrene-zasedani\nPopis: \n\nVážení členové Svazu průmyslu a dop
 ravy ČR\,\ndovolte nám\, abychom Vás pozvali na otevřené zasedání p
 racovní skupiny Svazu průmyslu a dopravy pro rozvojové země o možnost
 ech uplatnění českých firem v rozvojových zemích.\nAkce se uskute
 ční hybridní formou v úterý 23. května od 14:00 do 16:15 ve velk
 é zasedací místnosti SPČR v Praze 9 – Libni\, Freyova 11\, 2. patr
 o.\nNa jednání Vám budou představeny jednotlivé finanční nástroje 
 a záruky\, které mohou zapojení Vaší firmy do spolupráce s rozvojov
 ými zeměmi usnadnit\, a praktické zkušenosti českých firem\, které 
 jich již využívají. Kromě toho se od zástupců Ministerstva zahrani
 čních věcí seznámíte se strategií a směřováním zahraniční roz
 vojové spolupráce ČR\, s výhodami a konkrétními riziky\, které spol
 upráce privátních a veřejných subjektů přináší\, úlohou a speci
 fiky Národní rozvojové banky a v neposlední řadě i s evropskými p
 rogramy pro spolupráci soukromého kapitálu s rozvojovými zeměmi.\nPr
 ávě tato témata vedla Svaz průmyslu k založení specializované prac
 ovní skupinu pro rozvojové země\, prostřednictvím které by chtěl sv
 ým členským firmám poskytovat aktuální a praktické informace o př
 íležitostech a specificích uplatnění jejich výrobků\, technologií 
 či služeb v rozvojových zemích a na jejíž otevřené zasedání Vá
 s touto cestou srdečně zveme.\nProgram jednání naleznete zde.\nSvou ú
 čast prosím potvrďte nejpozději do 19. května zde.\nVíce informací 
 k tématu poskytne tajemnice PS Věra Venclíková: vera.venclikova@centr
 um.cz\nTěšíme se na Vaši účast!\nS pozdravem\,\nLukáš Martin\, ř
 editel Sekce mezinárodních vztahů SP ČR\nVěra Venclíková\, tajemnic
 e Pracovní skupiny SP ČR pro rozvojové země\n
URL:https://www.spcr.cz/pracovni-skupina-pro-rozvojove-zeme-otevrene-zaseda
 ni
DTSTART:20230523T140000
DTEND:20230523T160000
LOCATION:
END:VEVENT
END:VCALENDAR
