BEGIN:VCALENDAR
PRODID:-//eluceo/ical//2.0/EN
VERSION:2.0
CALSCALE:GREGORIAN
BEGIN:VEVENT
UID:9068c2ce2a063dbfa383662a8ff754c9
DTSTAMP:20260423T125654Z
SUMMARY:Taste of Equality – Ta pravá chuť rovnosti 
DESCRIPTION:Název akce: Taste of Equality – Ta pravá chuť rovnosti \nU
 RL: https://www.spcr.cz/taste-equality-ta-prava-chut-rovnosti\nPopis: \n\n
 Jak chutná rovnost? Přijďte ji okusit na 13. ročník konference Pride 
 Business Forum o rovnosti na pracovišti. Ukážeme si\, které ingredienc
 e jsou potřeba\, když chceme vytvořit pracoviště inkluzivní pro vše
 chny zaměstnance*kyně.\n\n Podrobný program a registraci najdete na w
 ebu konference.\n\nSvaz průmyslu a dopravy ČR poskytnul konferenci záš
 titu.\n
URL:https://www.spcr.cz/taste-equality-ta-prava-chut-rovnosti
DTSTART:20230622T090000
DTEND:20230622T170000
LOCATION:
END:VEVENT
END:VCALENDAR
