BEGIN:VCALENDAR
PRODID:-//eluceo/ical//2.0/EN
VERSION:2.0
CALSCALE:GREGORIAN
BEGIN:VEVENT
UID:67c6deba75f20437eb2b59e5fc74c888
DTSTAMP:20260423T162951Z
SUMMARY:Online seminář: INDONÉSIE - výzvy a příležitosti pro české
  exportéry
DESCRIPTION:Název akce: Online seminář: INDONÉSIE - výzvy a příleži
 tosti pro české exportéry\nURL: https://www.spcr.cz/online-seminar-indo
 nesie-vyzvy-prilezitosti-pro-ceske-exportery\nPopis: \n\nExportní online 
 seminář\, který nabídne praktické aktuální informace pro české fi
 rmy od ředitele zahraniční kanceláře CzechTrade v Indonésii\, Ivana 
 Kameníka.Anotace:\n\nAktuální situace na trhu Indonésie\nExportní př
 íležitosti a možnosti expanze pro české firmy\nObchodní kultura Indo
 nésie\nJak správně vyhledávat partnery a na co si dát pozor\nOptimál
 ní formy vstupu na daný trh\nStrategie vstupu na daný trh\, překážky
 \, příležitosti a praktické tipy pro obchodování\nZkušenosti a čas
 té chyby českých exportérů při exportu do Indonésie\nAsistence kanc
 eláře CzechTrade v Indonésii\n\nOtázky & Odpovědi\nObecné informace:
 \n\nSvé dotazy k tématu můžete zaslat před online seminářem prostř
 ednictvím přihlášky\, nebo prostřednictvím chatu na akci.\nDen před
  konáním akce Vám e-mailem zašleme prolink na danou akci.\nK účasti 
 na online semináři potřebujete pouze PC\, notebook či telefon s intern
 etovým připojením.\nAkce je ZDARMA.\nÚčastníci se mohou aktivně zap
 ojit prostřednictvím dotazů nebo být pasivními posluchači\n\nRegistr
 ace na akci zde. \n
URL:https://www.spcr.cz/online-seminar-indonesie-vyzvy-prilezitosti-pro-ces
 ke-exportery
DTSTART:20230523T100000
DTEND:20230523T113000
LOCATION:
END:VEVENT
END:VCALENDAR
