BEGIN:VCALENDAR
PRODID:-//eluceo/ical//2.0/EN
VERSION:2.0
CALSCALE:GREGORIAN
BEGIN:VEVENT
UID:b22771d0070aea5d3f3afe111405b07a
DTSTAMP:20260423T124933Z
SUMMARY:DESIGN PRO BUSINESS
DESCRIPTION:Název akce: DESIGN PRO BUSINESS\nURL: https://www.spcr.cz/desi
 gn-pro-business\nPopis: \n\nCenné zkušenosti významných osobností če
 ské designové a podnikatelské scény nabízí druhý ročník konferenc
 e Design pro business.Celodenní program přinese čtyři tematické okruh
 y\, které připomenou největší úspěchy českého designu\, objasní 
 pojem průmyslový design a jeho přidanou hodnotu pro business\, nabídno
 u věcné rady\, jak postupovat při budování silné značky a důležit
 ost vizuální identity firmy. Součástí každého bloku bude panelová 
 diskuse s odborníky na dané téma.Partnerem konference je Asociace česk
 ého průmyslového designu.\nVíce informací k dispozici zde. \n
URL:https://www.spcr.cz/design-pro-business
DTSTART:20230608T100000
DTEND:20230608T150000
LOCATION:
END:VEVENT
END:VCALENDAR
