BEGIN:VCALENDAR
PRODID:-//eluceo/ical//2.0/EN
VERSION:2.0
CALSCALE:GREGORIAN
BEGIN:VEVENT
UID:bd02b287862726a5febda215d6c424e9
DTSTAMP:20260423T150133Z
SUMMARY:Trendy z oblasti interiérového designu
DESCRIPTION:Název akce: Trendy z oblasti interiérového designu\nURL: htt
 ps://www.spcr.cz/trendy-z-oblasti-interieroveho-designu\nPopis: \n\nZnát 
 světové novinky a trendy je pro business klíčové\, abyste udrželi te
 mpo a směr. Pokud tedy vaše podnikání spadá do oblasti interiérové
 ho designu a nestíháte navštívit hlavní evropské veletrhy\, je tento
  seminář právě pro vás.\n\nDozvíte se hlavní trendy a zajímavosti 
 ze Salone del Mobile v Miláně\, který je pro prezentaci světových nov
 inek hlavní událostí.\nHovořit se bude také o novinkách pro oblast v
 ýroby nábytku\, které jsou prezentovány na významném veletrhu Interz
 um v Kolíně nad Rýnem.\nSeznámíte se i s trendy z veletrhu Heimtextil
 \, kde se koná již tradičně velká přehlídka trendů.\n\nInformace v
 ám přehledně podá designérka a specialistka na trendy Iva Bastlová\
 , která výše zmíněné veletrhy pravidelně navštěvuje.Určeno pro v
 ýrobce nábytku a interiérového zařízení\, výrobce doplňků a byto
 vých dekorací\, produktové i interiérové designéry.\nVíce informac
 í k dispozici zde. \n
URL:https://www.spcr.cz/trendy-z-oblasti-interieroveho-designu
DTSTART:20230530T130000
DTEND:20230530T170000
LOCATION:
END:VEVENT
END:VCALENDAR
