BEGIN:VCALENDAR
PRODID:-//eluceo/ical//2.0/EN
VERSION:2.0
CALSCALE:GREGORIAN
BEGIN:VEVENT
UID:10d816d930b8237d338b9423f590c698
DTSTAMP:20260423T130652Z
SUMMARY:ROADSHOW - Jak uspět na zahraničních trzích
DESCRIPTION:Název akce: ROADSHOW - Jak uspět na zahraničních trzích\nU
 RL: https://www.spcr.cz/roadshow-jak-uspet-na-zahranicnich-trzich-0\nPopis
 : \n\nPřemýšlíte o tom\, že začnete exportovat\, jen nevíte\, jak n
 a to?Rádi Vám poradíme. Roadshow po regionech ČR představuje jedine
 čnou sérii setkání s řediteli zahraničních kanceláří a konzultan
 ty CzechTrade. Jako jeden z hlavních přednášejících vystoupí rovn
 ěž Ředitel sekce služeb pro exportéry Jan Kubata. První zastávk
 a je naplánována v Ostravě\, dále se na Vás budeme těšit také v Pa
 rdubicích\, Liberci a Plzni. Přesné termíny budou včas zveřejněny.
 Na konferenci Vám poradíme\, jak si vybrat vhodný exportní trh\, způs
 ob expanze\, zahraniční veletrh\, jak se připravit na to\, aby vaše ex
 panze do zahraničí byla úspěšná. Budete mít možnost využít i ind
 ividuálních konzultací s odborníky na export.\nProgram ROADSHOW (10.00
  – 12.30 hodin):1. Služby CzechTrade pro exportéry (10.00 – 10.45 
 hodin)\n\nIndividuální služby dle exportních potřeb každé firmy a m
 ožnosti účasti na veletrzích\, obchodních misích\, sourcing day apod
 .\nNovinky pro exportéry – Exportní inkubátory\, služba KOMPAS\, Dig
 itální marketing\, Import pro export\, Exportní aliance\nDesign Centrum
  CzechTrade – podpora českých firem v oblasti průmyslového designu
 \nOtázky a odpovědi\n\n2. Praktické informace a tipy pro správnou vol
 bu exportních trhů (10.45 – 11.45 hodin)\n\nOslovení zahraničního 
 partnera\, příprava firmy pro vstup na exportní trhy\, marketingová p
 říprava a příprava pro obchodní jednání\, náklady při vstupu na z
 ahraniční trhy\, nejčastější chyby při exportu\nExportní přílež
 itosti pro české firmy ve Skandinávii\nOtázky a odpovědi\n\n3. INDIV
 IDUÁLNÍ KONZULTACE s přednášejícími (od 11.45 hodin)Přednášej
 ící:Jan Kubata\, ředitel Sekce služeb pro exportéry CzechTradeZuzana 
 Sedmerová\, vedoucí oddělení Design Centrum CzechTradeMartina Paříko
 vá\, exportní konzultant - senior CzechTradePetra Jindrová\, exportní 
 konzultant – senior CzechTrade\, budoucí ředitelka zahraniční kancel
 áře CzechTrade ve Skandinávii\nVíce informací k dispozici zde. \n
URL:https://www.spcr.cz/roadshow-jak-uspet-na-zahranicnich-trzich-0
DTSTART:20230525T100000
DTEND:20230525T123000
LOCATION:
END:VEVENT
END:VCALENDAR
