BEGIN:VCALENDAR
PRODID:-//eluceo/ical//2.0/EN
VERSION:2.0
CALSCALE:GREGORIAN
BEGIN:VEVENT
UID:5a32e81de701979f4b651c18c3631c27
DTSTAMP:20260423T130350Z
SUMMARY:Online seminář: Jak úspěšně působit na trzích SAE a KATARU
DESCRIPTION:Název akce: Online seminář: Jak úspěšně působit na trz
 ích SAE a KATARU\nURL: https://www.spcr.cz/online-seminar-jak-uspesne-pus
 obit-na-trzich-sae-kataru\nPopis: \n\nExportní online seminář zaměřen
 ý na novinky na trzích Spojených arabských emirátů a Kataru s ředit
 eli zahraničních kanceláří CzechTrade\, Mgr. Vladislavem Poláchem (S
 AE) a Mgr. Michalem Sontodinomo (Katar) – ŽIVĚ.\nNa semináři se dozv
 íte:\n\nSouhrnné informace o obou zemích\nEkonomická situace a další
  předpokládaný vývoj\nAktuální exportní možnosti v SAE a KATARU\nO
 bory s největším potenciálem\nJak na hledání obchodních partnerů 
 – specifika daných trhů\nTipy pro úspěšné jednání s obchodními 
 partnery\nSdílení zkušeností a úspěšných příkladů z praxe\nSlu
 žby CzechTrade pro exportéry\nOtázky a Odpovědi\n\nVíce informací k 
 dispozici zde.\n
URL:https://www.spcr.cz/online-seminar-jak-uspesne-pusobit-na-trzich-sae-ka
 taru
DTSTART:20230518T100000
DTEND:20230518T113000
LOCATION:
END:VEVENT
END:VCALENDAR
