BEGIN:VCALENDAR
PRODID:-//eluceo/ical//2.0/EN
VERSION:2.0
CALSCALE:GREGORIAN
BEGIN:VEVENT
UID:3c63ec890cba87e98c3172529f44d636
DTSTAMP:20260423T130625Z
SUMMARY:Pohotové ZVLÁDÁNÍ KONFLIKTNÍCH SITUACÍ v obchodním jednání
DESCRIPTION:Název akce: Pohotové ZVLÁDÁNÍ KONFLIKTNÍCH SITUACÍ v obc
 hodním jednání\nURL: https://www.spcr.cz/pohotove-zvladani-konfliktnich
 -situaci-v-obchodnim-jednani\nPopis: \n\nJak zvládat nátlakové a manipu
 lativní taktiky business partnera?Jak efektivně dosáhnout vytyčeného 
 cíle v obchodním jednání?Jak zvýšit pohotovost svých reakcí v kon
 fliktních situacích?Nechte se inspirovat tímto praktickým seminářem.
 ANOTACE:\n\nProblémy a konflikty v jednání\nZdroje konfliktů\nPrevenc
 e a řešení konfliktů\nKonfrontace versus kooperace\, jak eliminovat ko
 nfliktnost jednání a dosáhnout dohody\nZvládání vlastních emocí (s
 ebeovládání) a emocí komunikačního partnera\nPoužití asertivního 
 jednání v obchodní komunikaci\nEfektivní vyjednávání\nNátlakové 
 a manipulativní taktiky\nObrana proti manipulaci\nŘešení příkladů z
  praxe\nDiskuze námětů a doporučení\n\nVíce informací na odkazu zde
 . \n
URL:https://www.spcr.cz/pohotove-zvladani-konfliktnich-situaci-v-obchodnim-
 jednani
DTSTART:20230510T090000
DTEND:20230510T160000
LOCATION:
END:VEVENT
END:VCALENDAR
