BEGIN:VCALENDAR
PRODID:-//eluceo/ical//2.0/EN
VERSION:2.0
CALSCALE:GREGORIAN
BEGIN:VEVENT
UID:3c5a771a33fe613a9e5901bc6db6e4f4
DTSTAMP:20260423T174032Z
SUMMARY:Konzultace s ekonomickými diplomaty a zástupci CzechTrade a Czech
 Invest
DESCRIPTION:Název akce: Konzultace s ekonomickými diplomaty a zástupci C
 zechTrade a CzechInvest\nURL: https://www.spcr.cz/konzultace-s-ekonomickym
 i-diplomaty-zastupci-czechtrade-czechinvest\nPopis: \n\nZveme Vás na Konz
 ultace s ekonomickými\, vědeckými a zemědělskými diplomaty a vedouc
 ími zahraničních kanceláří CzechTrade a CzechInvest\, jejichž organ
 izací byl Svaz průmyslu a dopravy ČR v letošním roce opět pověřen.
 \nKonzultace budou probíhat v PVA EXPO PRAHA Letňany (VSTUPNÍ HALA 1)\
 , Beranových 667\, Praha 9 ve dnech 29. a 30. června od 8:30 cca do 16:3
 0 hodin.\nDélka jedné konzultace bude 20 minut. Počet konzultací pro 1
  firmu je omezen na 10. Prosíme vyberte při registraci max. 10 pro Vás 
 prioritních zemí či konzultačních stolků dalších subjektů. Účas
 t na konzultacích je zdarma.\nK dispozici pro jednání Vám budou kromě
  ekonomických\, vědeckých a zemědělských diplomatů\, vedoucích zah
 raničních kanceláří CzechTrade\, také zástupci zahraničních zasto
 upení CzechInvestu (Japonsko\, Kanada\, Korejská republika\, Německo\, 
 USA\, Velká Británie)\, České podnikatelské reprezentace v Bruselu (C
 EBRE) a Klientského centra pro export. Nebude chybět ani konzultační s
 tolek Design Centra CzechTrade\, České exportní banky (ČEB)\, Exportn
 í garanční a pojišťovací společnosti (EGAP)\, Agentury pro podniká
 ní a inovace\, Úřadu pro průmyslové vlastnictví a Klientského centr
 a pro export. V reakci na současné dění bude letos možnost konzultova
 t s odborníky z MPO u stolku „Ukrajina-poválečná rekonstrukce“.\nR
 egistrace na konzultace\n\nRegistrujte se prosím přes on-line formulář
  nejpozději do 16. června. Harmonogram schůzek Vám zašleme nejpozd
 ěji 26. června. Pokud víte o časovém úseku\, kdy byste se nemohli k
 onzultací zúčastnit\, uveďte tuto informaci do poznámky v registraci.
 \n\nPotřebujete vědět víc?\n\nPřečtete si podrobné pokyny ke konzul
 tacím.\nStáhněte si mapku areálu výstaviště včetně parkování.\n
 Kontaktujte nás na e-mailové adrese konzultace@spcr.cz.\n\nTěšíme se 
 na setkání s Vámi!\nNikdy jste na této akci nebyli? Minulý rok jsme e
 xportérům domluvili za dva dny přes 2 000 schůzek s ekonomickými dipl
 omaty a zástupci CzechTrade z celého světa. Přečtěte si o loňském 
 ročníku zde.\n
URL:https://www.spcr.cz/konzultace-s-ekonomickymi-diplomaty-zastupci-czecht
 rade-czechinvest
DTSTART:20230629T000000
DTEND:20230630T235959
LOCATION:
END:VEVENT
END:VCALENDAR
