BEGIN:VCALENDAR
PRODID:-//eluceo/ical//2.0/EN
VERSION:2.0
CALSCALE:GREGORIAN
BEGIN:VEVENT
UID:fd775c3d5ee251b871a521c0ddf52517
DTSTAMP:20260423T125013Z
SUMMARY:Česko-arménské Business Fórum
DESCRIPTION:Název akce: Česko-arménské Business Fórum\nURL: https://ww
 w.spcr.cz/cesko-armenske-business-forum\nPopis: \n\nPracovní jazyk: angli
 čtina\nHlavní téma jednání: spolupráce v oblasti obchodu a investic\
 nBusiness Fórum zahájí ministr průmyslu a obchodu ČR pan Jozef Síkel
 a a náměstek ministra pro ekonomiku Arménie pan Narek Teryan.\nZávěru
  tohoto významného jednání se zúčastní také premiér České repub
 liky pan Petr Fiala a premiér Arménské republiky pan Nikol Pashinyan.\n
 Registrace\n\nPro účast na tomto Business Fóru prosím napište paní T
 ereze Kuncové na kuncovat@mpo.cz.\n\nPROGRAM\n14:30-15:00 Registration\,
  Welcome Coffee\n15:00-16:00 Opening Session - Keynote Speeches\n\nMr. Joz
 ef Síkela\, Minister of Industry and Trade of the Czech Republic (10 min)
 \nMr. Narek Teryan\, Deputy Minister of Economy of the Republic of Armenia
 \nMr.  Radek Jakubský\, Vice-President of the Czech Chamber of Commerce
  \nMr. František Chaloupecký\, Vice-President of the Confederation of I
 ndustry of the Czech Republic\nMs. Lilit Asatryan\, Chamber of Commerce of
  the Republic of Armenia (TBC)\nRepresentative of Enterprise Armenia (TBC)
 \n\n16:00-17:00 Panel – Flagship Projects\n\nIntroduction by TBD\n\nPres
 entations of opportunities for flagship and energy projects\n\nMr. Sawyer 
 Hescock\, Head of International Partnerships and Operations\, TUMO Center\
 nPresentations by relevant Czech and Armenian stake-holders\nDiscussion\n\
 n17:00-17:30 Closing remarks\n\nMr. Nikol Pashinyan\, Prime Minister of th
 e Republic of Armenia\nMr. Petr Fiala\, Prime Minister of the Czech Republ
 ic\n\n17:30-18:00 Networking Session\n \n
URL:https://www.spcr.cz/cesko-armenske-business-forum
DTSTART:20230504T150000
DTEND:20230504T173000
LOCATION:
END:VEVENT
END:VCALENDAR
