BEGIN:VCALENDAR
PRODID:-//eluceo/ical//2.0/EN
VERSION:2.0
CALSCALE:GREGORIAN
BEGIN:VEVENT
UID:2a96eca5c52ba84a82846896db1e74bb
DTSTAMP:20260423T125705Z
SUMMARY:Ukraine Recovery Conference (URC 2023) in London
DESCRIPTION:Název akce: Ukraine Recovery Conference (URC 2023) in London\n
 URL: https://www.spcr.cz/ukraine-recovery-conference-urc-2023-london\nPopi
 s: \n\nOn 21-22 June 2023\, the UK jointly with Ukraine will host the inte
 rnational Ukraine Recovery Conference (URC 2023) in London\nThe Ukraine Re
 covery Conference is dedicated to Ukraine's transformation and was symboli
 cally launched in London in 2017 as the Ukraine Reform Conference.\nURC 20
 23 will focus on mobilising international support for Ukraine's economic a
 nd social stabilisation and recovery from the effects of war\, including t
 hrough emergency assistance for immediate needs and financing private sect
 or participation in the reconstruction process.\nAll the relevant details 
 and information can be found on the event's website here. \nContact: Ukr
 aineRecovery.ConferenceEnquiries@fcdo.gov.uk\n \n
URL:https://www.spcr.cz/ukraine-recovery-conference-urc-2023-london
DTSTART:20230621T080000
DTEND:20230622T170000
LOCATION:
END:VEVENT
END:VCALENDAR
