BEGIN:VCALENDAR
PRODID:-//eluceo/ical//2.0/EN
VERSION:2.0
CALSCALE:GREGORIAN
BEGIN:VEVENT
UID:e5439db2747d9e4f4f2347b7add210b8
DTSTAMP:20260423T145913Z
SUMMARY: Vyhrazená technická zařízení elektrická dle nové legislativ
 y s účinností od 1. 7. 2022
DESCRIPTION:Název akce:  Vyhrazená technická zařízení elektrická dle
  nové legislativy s účinností od 1. 7. 2022\nURL: https://www.spcr.cz/
 vyhrazena-technicka-zarizeni-elektricka-dle-nove-legislativy-s-ucinnosti-o
 d-1-7-2022\nPopis: \n\nSvaz průmyslu a dopravy České republiky a Krajsk
 á hospodářská komora Královéhradeckého kraje vás srdečně zvou na
  seminář\nRÁMCOVÝ PROGRAM Prezence\, občerstvení Zahájení
  Vyhrazená elektrická zařízení dle nové legislativy s účinností o
 d 1. 7. 2022 – Mgr. Radek Roušar– Jaká elektrická zařízení patř
 í mezi vyhrazená (dále jen „VEZ“)?– Co je to pověřená organiza
 ce?– Jaké povinnosti je nutno splnit při uvádění VEZ do provozu?–
  Jaké povinnosti je nutno splnit při provozování VEZ?– Jak jsou stan
 oveny nově lhůty revizí VEZ? Dotazy\, diskuze Pauza\, občerstven
 í Odborná způsobilost v elektrotechnice dle nové legislativy od 1.
  7. 2022 – Mgr. Radek Roušar– Jak se změnily stupně odborné způso
 bilosti v elektrotechnice?– Co může provádět osoba poučená\, co u
 ž osoba znalá?– Kdo je to odpovědná osoba?– Kdo může zkoušet od
 bornou způsobilost v elektrotechnice? Dotazy\, diskuze\nČASOVÝ HARM
 ONOGRAM8:30 – 9:00 prezence účastníků9:00 – 12:00 seminář\nPŘED
 NÁŠEJÍCÍMgr. Radek Roušar je prezidentem Elektrotechnického svazu č
 eského (ESČ) a členem představenstva Hospodářskékomory České repu
 bliky (HK ČR)\, kde je současně předsedou Sekce pro vyhrazená technic
 ká zařízení HK ČR. Dále ječlenem dozorčí rady Výzkumného ústav
 u pro podnikání a inovace\, z.ú. při HK ČR a stálý host Rady vlády
  pro BOZP aPO. Je jednatelem společnosti ELKO CZ\, s.r.o.\nCENA: 2300 Kč
  (vč. DPH) / 1700 Kč (vč. DPH) pro členy Krajské hospodářské komor
 y KHK\, OHK Liberec nebo SP ČR\nREGISTRACE: Na setkání se prosím regis
 trujte do 25. 5. 2023 ZDE\n
URL:https://www.spcr.cz/vyhrazena-technicka-zarizeni-elektricka-dle-nove-le
 gislativy-s-ucinnosti-od-1-7-2022
DTSTART:20230529T090000
DTEND:20230529T120000
LOCATION:
END:VEVENT
END:VCALENDAR
