BEGIN:VCALENDAR
PRODID:-//eluceo/ical//2.0/EN
VERSION:2.0
CALSCALE:GREGORIAN
BEGIN:VEVENT
UID:95b6e045f5d44f585ec983530bcd9fa3
DTSTAMP:20260423T130652Z
SUMMARY:Vyhrazená technická zařízení elektrická dle nové legislativy
  s účinností od 1. 7. 2022
DESCRIPTION:Název akce: Vyhrazená technická zařízení elektrická dle 
 nové legislativy s účinností od 1. 7. 2022\nURL: https://www.spcr.cz/v
 yhrazena-technicka-zarizeni-elektricka-dle-nove-legislativy-s-ucinnosti-od
 -1-7-2022-0\nPopis: \n\nSvaz průmyslu a dopravy České republiky\, Okres
 ní hospodářská komora Liberec\, Spolek pro rozvoj lidských zdrojů Li
 berec a Krajská nemocnice Liberec vás srdečně zvou na seminář\nRÁMC
 OVÝ PROGRAM Prezence\, občerstvení Zahájení Vyhrazená elekt
 rická zařízení dle nové legislativy s účinností od 1. 7. 2022 – 
 Mgr. Radek Roušar– Jaká elektrická zařízení patří mezi vyhrazen
 á (dále jen „VEZ“)?– Co je to pověřená organizace?– Jaké pov
 innosti je nutno splnit při uvádění VEZ do provozu?– Jaké povinnost
 i je nutno splnit při provozování VEZ?– Jak jsou stanoveny nově lhů
 ty revizí VEZ? Dotazy\, diskuze Pauza\, občerstvení Odborná z
 působilost v elektrotechnice dle nové legislativy od 1. 7. 2022 – Mgr
 . Radek Roušar– Jak se změnily stupně odborné způsobilosti v elekt
 rotechnice?– Co může provádět osoba poučená\, co už osoba znalá?
 – Kdo je to odpovědná osoba?– Kdo může zkoušet odbornou způsobil
 ost v elektrotechnice? Dotazy\, diskuze\nČASOVÝ HARMONOGRAM8:30 – 
 9:00 prezence účastníků9:00 – 12:00 seminář\nPŘEDNÁŠEJÍCÍMgr.
  Radek Roušar je prezidentem Elektrotechnického svazu českého (ESČ) a
  členem představenstva Hospodářskékomory České republiky (HK ČR)\,
  kde je současně předsedou Sekce pro vyhrazená technická zařízení 
 HK ČR. Dále ječlenem dozorčí rady Výzkumného ústavu pro podnikán
 í a inovace\, z.ú. při HK ČR a stálý host Rady vlády pro BOZP aPO. 
 Je jednatelem společnosti ELKO CZ\, s.r.o.\nCENA: 2300 Kč (vč. DPH) / 1
 700 Kč (vč. DPH) pro členy OHK Liberec\, Krajské hospodářské komory
  KHK nebo SP ČR\nREGISTRACE: Na setkání se prosím registrujte do 24. 5
 . 2023 ZDE\n
URL:https://www.spcr.cz/vyhrazena-technicka-zarizeni-elektricka-dle-nove-le
 gislativy-s-ucinnosti-od-1-7-2022-0
DTSTART:20230525T090000
DTEND:20230525T120000
LOCATION:
END:VEVENT
END:VCALENDAR
