BEGIN:VCALENDAR
PRODID:-//eluceo/ical//2.0/EN
VERSION:2.0
CALSCALE:GREGORIAN
BEGIN:VEVENT
UID:a22fe370a3465f408e45d16dfb919436
DTSTAMP:20260423T125757Z
SUMMARY:Debata CEBRE: „Náležitá péče podniků v oblasti udržitelnos
 ti“
DESCRIPTION:Název akce: Debata CEBRE: „Náležitá péče podniků v obl
 asti udržitelnosti“\nURL: https://www.spcr.cz/debata-cebre-nalezita-pec
 e-podniku-v-oblasti-udrzitelnosti\nPopis: \n\nČeská podnikatelská repre
 zentace v Bruselu CEBRE organizuje další debatu\, tentokrát na téma N
 áležitá péče podniků v oblasti udržitelnosti.\nHlavními hosty budo
 u europoslankyně Martina Dlabajová\, zástupce ministerstva spravedlnost
 i a soukromého sektoru viz. aktuální pozvánka níže. \nPodnikatelé 
 hrají klíčovou úlohu při budování udržitelné ekonomiky i spole
 čnosti. Uvědomuje si to i Evropská unie\, která vytváří legislativ
 u\, na jejímž základě budou muset podniky převzít větší kus odpov
 ědnosti nejen v probíhající ekologické transformaci\, ale i ochran
 ě lidských práv jak na území EU\, tak i mimo ni. Směrnice o nále
 žité péči podniků v oblasti udržitelnosti (Directive on Corporate S
 ustainability Due Diligence) má harmonizovat pravidla v této oblasti  
 a podpořit zodpovědné chování podniků ve všech fázích poskytován
 í zboží a služeb. Přílišné nároky by však mohly ohrozit konkuren
 ceschopnost evropských firem na globálních trzích. Klíčové tedy bud
 e nastavit legislativu tak\, aby směřovala globální dodavatelské řet
 ězce k vyšší udržitelnosti a zaměřila se na nejrizikovější fakt
 ory\, ale zároveň nepředstavovala zásadní bariéru pro podnikání.\n
 Odkaz na pozvánku a registraci na akci naleznete zde. \n
URL:https://www.spcr.cz/debata-cebre-nalezita-pece-podniku-v-oblasti-udrzit
 elnosti
DTSTART:20230424T133000
DTEND:20230424T153000
LOCATION:
END:VEVENT
END:VCALENDAR
