BEGIN:VCALENDAR
PRODID:-//eluceo/ical//2.0/EN
VERSION:2.0
CALSCALE:GREGORIAN
BEGIN:VEVENT
UID:a697868c95a22ace787d8367a57cd12c
DTSTAMP:20260423T125705Z
SUMMARY:Seminář pro podnikatele na vnitřnímu trhu EU
DESCRIPTION:Název akce: Seminář pro podnikatele na vnitřnímu trhu EU\n
 URL: https://www.spcr.cz/seminar-pro-podnikatele-na-vnitrnimu-trhu-eu\nPop
 is: \n\nDovolujeme si vás informovovat o semináři jehož tématem bude 
 vnitřní trh se zaměřením na české podnikatele\, který pořádá Mi
 nisterstvo průmyslu a obchodu společně s Jednotným kontaktním míste
 m města Brna ve čtvrtek 4. května 2023. Seminář proběhne v Brnu. Pro
 gram a další informace k dispozici zde. \n
URL:https://www.spcr.cz/seminar-pro-podnikatele-na-vnitrnimu-trhu-eu
DTSTART:20230504T093000
DTEND:20230504T123000
LOCATION:
END:VEVENT
END:VCALENDAR
