BEGIN:VCALENDAR
PRODID:-//eluceo/ical//2.0/EN
VERSION:2.0
CALSCALE:GREGORIAN
BEGIN:VEVENT
UID:9735deffa257ec48204914c5b92eaac0
DTSTAMP:20260423T163131Z
SUMMARY:Online seminář: INDONÉSIE - výzvy a příležitosti pro české
  exportéry
DESCRIPTION:Název akce: Online seminář: INDONÉSIE - výzvy a příleži
 tosti pro české exportéry\nURL: https://www.spcr.cz/online-seminar-indo
 nesie-vyzvy-prilezitosti-pro-ceske-exportery-0\nPopis: \n\nExportní onlin
 e seminář\, který nabídne praktické aktuální informace pro české 
 firmy od ředitele zahraniční kanceláře CzechTrade v Indonésii\, Ivan
 a Kameníka.Anotace:\n\nAktuální situace na trhu Indonésie\nExportní p
 říležitosti a možnosti expanze pro české firmy\nObchodní kultura In
 donésie\nJak správně vyhledávat partnery a na co si dát pozor\nOptim
 ální formy vstupu na daný trh\nStrategie vstupu na daný trh\, překá
 žky\, příležitosti a praktické tipy pro obchodování\nZkušenosti a 
 časté chyby českých exportérů při exportu do Indonésie\nAsistence 
 kanceláře CzechTrade v Indonésii\n\nOtázky & Odpovědi\nObecné inform
 ace:\n\nSvé dotazy k tématu můžete zaslat před online seminářem pro
 střednictvím přihlášky\, nebo prostřednictvím chatu na akci.\nDen p
 řed konáním akce Vám e-mailem zašleme prolink na danou akci.\nK úča
 sti na online semináři potřebujete pouze PC\, notebook či telefon s in
 ternetovým připojením.\nAkce je ZDARMA.\nÚčastníci se mohou aktivně
  zapojit prostřednictvím dotazů nebo být pasivními posluchači\n\nLin
 k na registraci na akci naleznete zde. \n
URL:https://www.spcr.cz/online-seminar-indonesie-vyzvy-prilezitosti-pro-ces
 ke-exportery-0
DTSTART:20230525T100000
DTEND:20230525T113000
LOCATION:
END:VEVENT
END:VCALENDAR
