BEGIN:VCALENDAR
PRODID:-//eluceo/ical//2.0/EN
VERSION:2.0
CALSCALE:GREGORIAN
BEGIN:VEVENT
UID:df5bc426cbb3026faf658f93ac585856
DTSTAMP:20260423T125029Z
SUMMARY:Insurance Forum 2023
DESCRIPTION:Název akce: Insurance Forum 2023\nURL: https://www.spcr.cz/ins
 urance-forum-2023\nPopis: \n\nINSURANCE FORUM 2023 je klíčové setkání
  významných osobností a lídrů českých pojišťoven\, pojišťovací
 ch makléřů a odborných firem dodávajících specifické služby a ře
 šení v tomto oboru.\nHlavními body konference jsou nejzásadnější t
 émata z oblasti pojištovnictví\, makléřství\, finančního poradenst
 ví\, IT a další.\nPodrobnosti k regstraci a programu najdete na webu ak
 ce.\n
URL:https://www.spcr.cz/insurance-forum-2023
DTSTART:20230605T000000
DTEND:20230605T235959
LOCATION:
END:VEVENT
END:VCALENDAR
