BEGIN:VCALENDAR
PRODID:-//eluceo/ical//2.0/EN
VERSION:2.0
CALSCALE:GREGORIAN
BEGIN:VEVENT
UID:80758a67b3ffaebbfe8111f83eceb4fb
DTSTAMP:20260423T125940Z
SUMMARY:Kulatý stul se zaměstnavateli II
DESCRIPTION:Název akce: Kulatý stul se zaměstnavateli II\nURL: https://w
 ww.spcr.cz/kulaty-stul-se-zamestnavateli-ii\nPopis: \n\nSvaz průmyslu a d
 opravy ČR si Vás v rámci projektu „Podpora národního\, odvětvové
 ho a regionálního sociálního dialogu v ČR“ dovoluje pozvat na akciO
 NLINE PROSTŘEDNICTVÍM APLIKACE ZOOMCÍL: Cílem akce je navázat na kari
 érové poradenství škol\, poukázat na nedostatekkvalifikované pracovn
 í síly\, podpořit studium technických a nedostatkových oborů adiskut
 ovat s místními významnými zaměstnavateli\, které profese jsou z je
 jich pohledu zdlouhodobého hlediska na trhu práce nejvíce žádány.PRO
 GRAM Prezentace jednotlivých zaměstnavatelů Moderovaná diskuse\,
  dotazyČASOVÝ HARMONOGRAM09:30 – 10:00 Registrace účastníků10:00 
 – 10:30 Preciosa\, a.s.10:30 – 11:00 Cikautxo CZ s.r.o.11:00 – 11:30
  JABLOTRON ALARMS a.s.11:30 – 11:45 Přestávka11:45 – 12:45 Exkurze12
 :45 – 13:00 ZávěrMODERÁTOR Ing. Naděžda Vojtíšková\nREGISTRAC
 E Na setkání se prosím přihlaste ZDE\, nejpozději do 5. 6. 2023V p
 řípadě dotazů se prosím obraťte na regionální kancelář SP ČR\, 
 regionální manažerku SPČR\, Ing. Naďu Vojtíškovou (tel: 733 643 52
 0 nebo na e-mail: nvojtiskova@spcr.cz).\n
URL:https://www.spcr.cz/kulaty-stul-se-zamestnavateli-ii
DTSTART:20230607T093000
DTEND:20230607T123000
LOCATION:
END:VEVENT
END:VCALENDAR
