BEGIN:VCALENDAR
PRODID:-//eluceo/ical//2.0/EN
VERSION:2.0
CALSCALE:GREGORIAN
BEGIN:VEVENT
UID:24db8321d87d8590f0165a7215ad7523
DTSTAMP:20260423T162731Z
SUMMARY:Prezentace firem školám na podporu kariérového poradenství
DESCRIPTION:Název akce: Prezentace firem školám na podporu kariérového
  poradenství\nURL: https://www.spcr.cz/prezentace-firem-skolam-na-podporu
 -karieroveho-poradenstvi\nPopis: \n\nSvaz průmyslu a dopravy ČR si Vás 
 v rámci projektu „Podpora národního\, odvětvového a regionálního
  sociálního dialogu v ČR“ dovoluje pozvat na akci\nCÍL: Cílem akce 
 je navázat na kariérové poradenství škol\, poukázat na nedostatekkva
 lifikované pracovní síly\, podpořit studium technických a nedostatkov
 ých oborů adiskutovat s místními významnými zaměstnavateli\, kter
 é profese jsou z jejich pohledu zdlouhodobého hlediska na trhu práce ne
 jvíce žádány.PROGRAM Prezentace jednotlivých zaměstnavatelů D
 iskuse\, dotazy ExkurzeČASOVÝ HARMONOGRAM09:30 – 10:00 Registrace 
 účastníků10:00 – 10:30 Preciosa\, a.s.10:30 – 11:00 Cikautxo CZ s.
 r.o.11:00 – 11:30 JABLOTRON ALARMS a.s.11:30 – 11:45 Přestávka11:45 
 – 12:45 Exkurze12:45 – 13:00 ZávěrMODERÁTOR Ing. Naděžda Vojt
 íšková\nREGISTRACE Na setkání se prosím přihlaste ZDE\, nejpozd
 ěji do 29. 5. 2023V případě dotazů se prosím obraťte na regionáln
 í kancelář SP ČR\, regionální manažerku SPČR\, Ing. Naďu Vojtíš
 kovou (tel: 733 643 520 nebo na e-mail: nvojtiskova@spcr.cz).\n
URL:https://www.spcr.cz/prezentace-firem-skolam-na-podporu-karieroveho-pora
 denstvi
DTSTART:20230530T093000
DTEND:20230530T123000
LOCATION:
END:VEVENT
END:VCALENDAR
