BEGIN:VCALENDAR
PRODID:-//eluceo/ical//2.0/EN
VERSION:2.0
CALSCALE:GREGORIAN
BEGIN:VEVENT
UID:e91360215f1361b8a8ce77f27826514c
DTSTAMP:20260423T150037Z
SUMMARY:Kulatý stul se zaměstnavateli I
DESCRIPTION:Název akce: Kulatý stul se zaměstnavateli I\nURL: https://ww
 w.spcr.cz/kulaty-stul-se-zamestnavateli-i\nPopis: \n\nSvaz průmyslu a dop
 ravy ČR si Vás v rámci projektu „Podpora národního\, odvětvového
  a regionálního sociálního dialogu v ČR“ dovoluje pozvat na akci\nO
 NLINE PROSTŘEDNICTVÍM APLIKACE ZOOMCÍL: Cílem akce je navázat na kari
 érové poradenství škol\, poukázat na nedostatek kvalifikované pracov
 ní síly\, podpořit studium technických a nedostatkových oborů adisku
 tovat s místními významnými zaměstnavateli\, které profese jsou z j
 ejich pohledu z dlouhodobého hlediska na trhu práce nejvíce žádány.\
 nPROGRAM Prezentace jednotlivých zaměstnavatelů Moderovaná disku
 se\, dotazyČASOVÝ HARMONOGRAM09:30 – 10:00 Registrace účastníků10:
 00 – 10:30 Krajská nemocnice Liberec\, a.s.10:30 – 11:00 Fehrer Bohem
 ia s.r.o.11:00 – 11:30 Ředitelství silnic a dálnic ČR pro Liberecký
  kraj11:30 – 11:45 Přestávka11:45 – 12:45 Moderovaná diskuze\, dota
 zy12:45 – 13:00 ZávěrMODERÁTOR Ing. Naděžda Vojtíšková\nREGIS
 TRACE Na setkání se prosím přihlaste ZDE\, nejpozději do 23. 4. 20
 23\nV případě dotazů se prosím obraťte na regionální kancelář SP
  ČR\, regionální manažerku SPČR\, Ing. Naďu Vojtíškovou (tel: 733
  643 520 nebo na e-mail: nvojtiskova@spcr.cz).\n
URL:https://www.spcr.cz/kulaty-stul-se-zamestnavateli-i
DTSTART:20230425T093000
DTEND:20230425T123000
LOCATION:
END:VEVENT
END:VCALENDAR
