BEGIN:VCALENDAR
PRODID:-//eluceo/ical//2.0/EN
VERSION:2.0
CALSCALE:GREGORIAN
BEGIN:VEVENT
UID:58843aaa8628e23a3ec06112d979560e
DTSTAMP:20260423T130647Z
SUMMARY:Prezentace firem školám na podporu kariérového poradenství
DESCRIPTION:Název akce: Prezentace firem školám na podporu kariérového
  poradenství\nURL: https://www.spcr.cz/prezentace-firem-skolam-na-podporu
 -karieroveho-poradenstvi-0\nPopis: \n\nSvaz průmyslu a dopravy ČR si Vá
 s v rámci projektu „Podpora národního\, odvětvového a regionální
 ho sociálního dialogu v ČR“ dovoluje pozvat na akci\nPROGRAM Preze
 ntace jednotlivých zaměstnavatelů Diskuse\, dotazy ExkurzeČASOV
 Ý HARMONOGRAM09:30 – 10:00 Registrace účastníků10:00 – 10:30 Kraj
 ská nemocnice Liberec\, a.s.10:30 – 11:00 Fehrer Bohemia s.r.o.11:00 
 – 11:30 Ředitelství silnic a dálnic ČR pro Liberecký kraj11:30 – 
 11:45 Přestávka11:45 – 12:45 Exkurze12:45 – 13:00 ZávěrMODERÁTOR
  Ing. Naděžda VojtíškováREGISTRACE Na setkání se prosím při
 hlaste ZDE\, nejpozději do 14. 4. 2023V případě dotazů se prosím obr
 aťte na regionální kancelář SP ČR\, regionální manažerku SPČR\, 
 Ing. Naďu Vojtíškovou (tel: 733 643 520 nebo na e-mail: nvojtiskova@sp
 cr.cz).\n
URL:https://www.spcr.cz/prezentace-firem-skolam-na-podporu-karieroveho-pora
 denstvi-0
DTSTART:20230417T000000
DTEND:20230417T235959
LOCATION:
END:VEVENT
END:VCALENDAR
