BEGIN:VCALENDAR
PRODID:-//eluceo/ical//2.0/EN
VERSION:2.0
CALSCALE:GREGORIAN
BEGIN:VEVENT
UID:8cc0d35f18ed54bc06a55f652e7cafd4
DTSTAMP:20260423T150037Z
SUMMARY:Vyhrazená technická zařízení dle nové legislativy s účinnos
 tí od 1. 7. 2022
DESCRIPTION:Název akce: Vyhrazená technická zařízení dle nové legisl
 ativy s účinností od 1. 7. 2022\nURL: https://www.spcr.cz/vyhrazena-tec
 hnicka-zarizeni-dle-nove-legislativy-s-ucinnosti-od-1-7-2022\nPopis: \n\nS
 vaz průmyslu a dopravy České republiky a Krajská hospodářská komora
  Královéhradeckého kraje vás srdečně zvou na seminář\nRÁMCOVÝ PR
 OGRAM\nPrezence\, občerstveníZahájení\nBc. Georgios Christodu
 los – inspektor se zaměřením na tlaková zařízení– Zákon č. 25
 0/2021 Sb.\, o bezpečnosti práce v souvislosti s provozem vyhrazených
  technických zařízení a ozměně souvisejících zákonů\, ve vztahu 
 k vyhrazeným tlakovým zařízením a se zřetelem na změny oprotiminul
 é právní úpravě– Nařízení vlády č. 192/2022 Sb.\, o vyhrazený
 ch technických tlakových zařízeních a požadavcích na zajištěníje
 jich bezpečnosti– Nejčastější nedostatky v oblasti tlakových zař
 ízení zjišťované při kontrolní činnosti– Dotazy\, diskuseIng.
  Karel Šimonovský – inspektor se zaměřením na zdvihací zařízení
 – Zákon č. 250/2021 Sb.\, o bezpečnosti práce v souvislosti s prov
 ozem vyhrazených technických zařízení a ozměně souvisejících zák
 onů\, ve vztahu k vyhrazeným zdvihacím zařízením a se zřetelem na z
 měny oprotiminulé právní úpravě– Nařízení vlády č. 193/2022 S
 b.\, o vyhrazených technických zdvihacích zařízeních a požadavcích
  na zajištěníjejich bezpečnosti– Nejčastější nedostatky v oblas
 ti zdvihacích zařízení zjišťované při kontrolní činnosti– Prac
 ovní úrazy v oblasti zdvihacích zařízení– Dotazy\, diskuse– Pau
 za\, občerstveníIng. František Hataš – inspektor se zaměřením 
 na elektrická zařízení– Zákon č. 250/2021 Sb.\, o bezpečnosti pr
 áce v souvislosti s provozem vyhrazených technických zařízení a oz
 měně souvisejících zákonů\, ve vztahu k vyhrazeným elektrickým za
 řízením a se zřetelem na změny oprotiminulé právní úpravě– Na
 řízení vlády č. 190/2022 Sb.\, o vyhrazených technických elektrick
 ých zařízeních a požadavcích na zajištěníjejich bezpečnosti– N
 ařízení vlády č. 194/2022 Sb.\, o požadavcích na odbornou způsobil
 ost k výkonu činnosti na elektrickýchzařízeních a na odbornou způs
 obilost v elektrotechnice\, se zřetelem na změny oproti minulé právn
 í úpravě– Nejčastější nedostatky v oblasti elektrických zaříz
 ení zjišťované při kontrolní činnosti– Pracovní úrazy v oblast
 i elektrických zařízení– Dotazy\, diskuseOtto Svoboda\, DiS. - in
 spektor se zaměřením na plynová zařízení– Zákon č. 250/2021 Sb.
 \, o bezpečnosti práce v souvislosti s provozem vyhrazených technick
 ých zařízení a ozměně souvisejících zákonů\, ve vztahu k vyhraze
 ným plynovým zařízením a se zřetelem na změny oprotiminulé právn
 í úpravě– Nařízení vlády č. 191/2022 Sb.\, o vyhrazených plynov
 ých zařízeních a požadavcích na zajištění jejichbezpečnosti– N
 ejčastější nedostatky v oblasti plynových zařízení zjišťované 
 při kontrolní činnosti– Pracovní úrazy v oblasti plynových zaří
 zení– Dotazy\, diskuseČASOVÝ HARMONOGRAM8:30 – 9:00 prezence účas
 tníků9:00 – 10:40 zahájení\, 1. část semináře10:40 – 11:00 př
 estávka\, občerstvení11:00 – 12:30 2. část semináře\, závěrCENA
 : 2300 Kč (vč. DPH) / 1700 Kč (vč. DPH) pro členy Krajské hospodář
 ské komory KHK\, OHK Liberec nebo SP ČRREGISTRACE: Na setkání se pros
 ím registrujte do 1. 5. 2023 ZDE\n
URL:https://www.spcr.cz/vyhrazena-technicka-zarizeni-dle-nove-legislativy-s
 -ucinnosti-od-1-7-2022
DTSTART:20230504T090000
DTEND:20230504T123000
LOCATION:
END:VEVENT
END:VCALENDAR
