BEGIN:VCALENDAR
PRODID:-//eluceo/ical//2.0/EN
VERSION:2.0
CALSCALE:GREGORIAN
BEGIN:VEVENT
UID:85f04fd260e0726c0eadee4ee90ecfa2
DTSTAMP:20260423T163341Z
SUMMARY:Podnikatelská mise do Spojených států amerických
DESCRIPTION:Název akce: Podnikatelská mise do Spojených států americk
 ých\nURL: https://www.spcr.cz/podnikatelska-mise-do-spojenych-statu-ameri
 ckych\nPopis: \n\nZveme vás k účasti v podnikatelské misi do Spojený
 ch států amerických (Washington D.C. a Atlanta). Mise je organizovaná 
 Svazem průmyslu a dopravy ČR z pověření předsedkyně Poslanecké sn
 ěmovny Parlamentu ČR. Na organizaci programu na místě se podílí Velv
 yslanectví ČR ve Washingtonu D.C. ve spolupráci s místními partnery.\
 nTěšíme se na Vás v termínu 21. až 27. května 2023.\nMise se koná
  při příležitosti pracovní návštěvy předsedkyně Poslanecké sně
 movny Parlamentu ČR v USA\, kterou mj. doprovodí ministryně pro vědu v
 ýzkum a inovace Helena Langšádlová a představitelé MPO. Návštěva 
 bude v oblasti ekonomické spolupráce zaměřena zejména na obory souvi
 sející se zdravotnictvím\, ICT a energetikou (a to v širším pojetí\
 , tedy například i související ICT a technologická řešení)\, a dá
 le v oblasti dopravy.\nV předběžném programu mise počítáme s organ
 izací networkingových akcí za přítomnosti paní předsedkyně či pan
 í ministryně a amerických firem v obou navštívených městech\, náv
 štěvy globálních firem z oblasti technologií a health care\, návšt
 ěva některých z výzkumných univerzit a technologických inkubátorů\
 , akcelerátorů či inovačních center.\nDalší program v jednání/bu
 de doplňován a upřesňován.\nUzávěrka závazných přihlášek je 27
 . dubna 2023 do 15:00.\nZálohová cena za účast v podnikatelské deleg
 aci je 78.750\,- Kč včetně DPH pro členy Svazu průmyslu a dopravy ČR
  a 87.500\,- Kč včetně DPH pro nečleny. Obsah účastnického balíčk
 u je rozepsán v přihlášce.\nPřihlášení na podnikatelskou misi zah
 rnuje 4 kroky: \n\nVyplnění a podepsání Závazné přihlášky\, jej
 í naskenování a zaslání e-mailem na adresu mveselka@spcr.cz nejpozd
 ěji do 27. dubna 2023 do 15:00.\nSoučasně s přihláškou je nutné vy
 plnit i elektronický formulář\, který obsahuje informace nezbytné pro
  Vaše uvedení v katalogu podnikatelské mise\, vyhledání vhodných pa
 rtnerů pro B2B networking\, ale i pro odbavení v letadle vládní letky
  či ubytování v hotelu.\nZaslání skenu datové stránky vašeho pasu
  (platnost pasu min. 6 měsíců po návratu zpět do ČR) a skenu stránk
 y ve stejném pase s platným vylepeným americkým vízem B1/B2 – poku
 d jím disponujete.\nZaslání skenu/pdf potvrzení o ukončeném očková
 ní (alespoň 2 očkovací dávky) proti Covidu – nutnost pro vstup do U
 SA.\n\nVzhledem ke skutečnosti\, že se cesta uskuteční vládním speci
 álem\, MUSÍ všichni účastníci na palubě disponovat platným americk
 ým vízem typu B1/B2 vylepeným v pase. ESTa nestačí. Vízum uděluje 
 ZÚ USA v Praze a jeho udělení je spojené s návštěvou na ZÚ a pří
 padným pohovorem. Platnost tohoto víza je 5 – 10 let.\nPokud již disp
 onujete tímto platným vízem (optimální varianta)\, zašlete nám pros
 ím jeho sken. Pokud nikoliv\, po Vašem přihlášení Vám zašleme inst
 rukce k vyřízení víza na ZÚ USA v Praze.\nUpozorňujeme\, že bez v
 yplnění elektronického formuláře nemůžeme Vaši přihlášku zpraco
 vat. Výběr místních firem a partnerů pro networking bude probíhat na
  základě Vámi dodaných profilů a informací o Vaší firmě v tomto 
 elektronickém formuláři.  Prosíme proto o co nejkonkrétnější upř
 esnění Vašich zájmů.\nPři vyplňování profilu mějte prosím na pa
 měti\, že slouží také jako podklad pro výrobu prezentačního tišt
 ěného katalogu mise\, jehož cílem je co nejlépe druhou stranu seznám
 it s profily a kontaktními údaji zúčastněných firem. Výrobu katalog
 u zajišťuje pro Svaz průmyslu a dopravy externí dodavatel Copy General
 \, jehož zástupce Vás během přípravy mise bude kontaktovat s prosbou
  o dodání fotografie účastníka mise a později s návrhem stránky k 
 autorizaci. Snahou je vytvořit profesionální a přehledný tištěný m
 ateriál s informacemi o všech účastnících.\nProsíme také o vyplně
 ní jednoho vzorového snímku v powerpointu do společné prezentace\, k
 terá může být promítána v rámci networkingových akcí. \nPo obdr
 žení Vaší závazné přihlášky a provedení elektronické registrace
  Vám zašleme další pokyny a zálohovou fakturu na účastnický poplat
 ek.  Další podklady a informace Vám budeme průběžně zasílat elekt
 ronickou poštou. Podnikatelskou misi organizačně zajišťuje manažer S
 ekce vnějších vztahů Ing. Miroslav Veselka (mveselka@spcr.cz). Bližš
 í informace Vám poskytneme na tel. 724 613 950.\nVzhledem k omezené k
 apacitě a potřebě vyřízení víz do USA prosíme o včasnou registrac
 i. Pořadatelé si vyhrazují právo odmítnout zájemce o účast s ohle
 dem na vhodnost oborového zaměření v případě převisu poptávky na
 d počtem míst v letadle. Děkujeme za pochopení.\nTěšíme se na Vaši
  účast a spolupráci s Vámi.\n
URL:https://www.spcr.cz/podnikatelska-mise-do-spojenych-statu-americkych
DTSTART:20230521T000000
DTEND:20230527T235959
LOCATION:
END:VEVENT
END:VCALENDAR
