BEGIN:VCALENDAR
PRODID:-//eluceo/ical//2.0/EN
VERSION:2.0
CALSCALE:GREGORIAN
BEGIN:VEVENT
UID:80c7b5dc87781d237d59434e5cc04b49
DTSTAMP:20260423T150253Z
SUMMARY:MARKET ACCESS DAY ČR
DESCRIPTION:Název akce: MARKET ACCESS DAY ČR\nURL: https://www.spcr.cz/ma
 rket-access-day-cr\nPopis: \n\nVážená paní\, vážený pane\,\nchtěli
  bychom Vás touto cestou informovat o MARKET ACCESS DAY ČR\, který se 
 uskuteční 7. června 2023 na Ministerstvu průmyslu a obchodu\, v budov
 ě Na Františku 32\, Praha 1.\nJaké možnosti přináší dohody o voln
 ém obchodu? Nejste si jisti postupy při dovozu nebo vývozu vašeho zbo
 ží nebo služeb do zahraničí? Využijte jedinečné příležitosti k 
 setkání s odborníky z Evropské komise a Ministerstva průmyslu a obcho
 du v oblasti mezinárodního obchodu a přístupu na trh. Máte příleži
 tost dozvědět se o nástrojích obchodní politiky usnadňujících mezi
 národní obchod\, o portálu Access2Markets a o výhodách\, které přin
 áší (nejen) dohody o volném obchodu s Japonskem a Vietnamem.\nZúčast
 něte se akce pořádané Ministerstvem průmyslu a obchodu ve spolupráci
  s Evropskou komisí\, kde se dozvíte vše potřebné k tomu\, abyste zí
 skali maximum z obchodních dohod.\nDetailnější informace o akci budou 
 průběžně aktualizovány na tomto odkazu.\nKontaktní osoba: Pavlína 
 Shaw\nOdbor obchodní politiky MPO ČRT +420 224 852 636shaw@mpo.cz\n
URL:https://www.spcr.cz/market-access-day-cr
DTSTART:20230607T090000
DTEND:20230607T130000
LOCATION:
END:VEVENT
END:VCALENDAR
