BEGIN:VCALENDAR
PRODID:-//eluceo/ical//2.0/EN
VERSION:2.0
CALSCALE:GREGORIAN
BEGIN:VEVENT
UID:b03856cf93f33fc3f623fc9d7861aca6
DTSTAMP:20260423T125757Z
SUMMARY:Trendy v Business Continuity Management
DESCRIPTION:Název akce: Trendy v Business Continuity Management\nURL: http
 s://www.spcr.cz/trendy-v-business-continuity-management\nPopis: \n\nSvaz p
 růmyslu a dopravy ČR si Vás v rámci projektu „Podpora národního\, 
 odvětvového a regionálního sociálního dialogu v ČR“ dovoluje pozv
 at na kulatý stůl za účelem identifikovat vhodné postupy a sdílet do
 brou praxi pro posílení odolnosti českých firem ve stínu pokračujíc
 í digitalizace procesů\, produktů a zásadních celosvětových událos
 tí vedoucí k potřebě intenzivnějšího nasazení BCM pro podpoření 
 konkurenceschopnosti společnosti. Každý příspěvek bude doprovázen a
 lespoň 10 minutovou debatou.\nProgram\n\n08:30 – 09:00     Registra
 ce účastníků\n09:00 – 09:15     Úvodní slovo – Luboš Pavlas
 \, prezident a CEO skupiny Sev.en\; člen představenstva SP ČR\n09:15 
 – 10:00     Product Safety  – „Jak zajistit bezpečnost\, spol
 ehlivost a compliance firemních produktů a procesů ve světě\, ve kte
 rém je čím tím více objektů počítačově řízené\, a tedy poten
 ciálně kompromitovatelné“ – Jiří Pavlas\, Manager of Cyber & Priv
 acy\, PricewaterhouseCoopers\n10:00 – 10:45    Krizová komunikace a 
 Incident Response – „V krizi má každá minuta cenu zlata – jak n
 astavit komunikační kanály a procesy\, aby případná nouzová situa
 ce měla co nejmenší dopady a náklady“ – Jakub Ludvík\, Chief Secu
 rity Officer\, T-Mobile\n10:45 – 11:00     Přestávka\n11:00 – 12
 :00     Diskuze: Využívání otevřených zdrojů informací (OSINT) 
 k získávání (Security) Business Intelligence - Obrovské množství 
 dat je voln k dispozici – Jak z nich efektivně získat cenné informa
 ce? Jak do toho vstupují vznikající nástroje umělé inteligence? Jak
 é můžou být dopady například na prověřování nových i stávajíc
 ích zaměstnanců?\n\nREGISTRACE\n\nNa setkání se prosím přihlaste p
 řes registrační formulář nejpozději do 5. května 2023.\n\nMODERÁ
 TOR A ORGANIZÁTOR\n\nPetr Teplý\, regionální manažer SP ČR pro Prahu
 \, Středočeský a Ústecký kraj. Dotazy: pteply@spcr.cz\, +420 603 459
  521.\n
URL:https://www.spcr.cz/trendy-v-business-continuity-management
DTSTART:20230510T090000
DTEND:20230510T120000
LOCATION:
END:VEVENT
END:VCALENDAR
