BEGIN:VCALENDAR
PRODID:-//eluceo/ical//2.0/EN
VERSION:2.0
CALSCALE:GREGORIAN
BEGIN:VEVENT
UID:7f2effa616ba243caaf52a043fa1988c
DTSTAMP:20260423T125029Z
SUMMARY:Invest in Bravery.IT
DESCRIPTION:Název akce: Invest in Bravery.IT\nURL: https://www.spcr.cz/inv
 est-braveryit\nPopis: \n\nUkraine is working now!While a large number of U
 krainians are fighting for democracy\, the rule of law\, and the common se
 curity of all peace-loving\, democratic peoples over the entire world\, an
 other part is willing and able to work – to provide incredible value in 
 the IT and high-tech sectors to support the economy of Ukraine and power b
 usinesses and projects with partners all over the world.The Ukrainian IT s
 ector is undervalued and underestimated - this event aims to change that. 
 Smart investors and smart entrepreneurs can recognize undervalued and unde
 restimated assets and partners. Invest in Bravery is all about showing the
  world what Ukraine can do now – cooperation with Ukraine will provide b
 ig benefits to all parties involved. It is one of the most pure win-win si
 tuations in business to be found on the planet.The mission of the Invest i
 n Bravery – IT conference is to show the world that the Ukrainian IT and
  high tech sectors never stopped – despite everything\, the Ukrainian IT
  sector grew in 2022. We will highlight how Ukrainians work\, what they ar
 e capable of\, how they are able to stay productive and meet and exceed ex
 pectations\, and how they partner in international projects - overcoming d
 ifficulties\, maintaining business and service continuity\, meeting deadli
 nes\, and the overall high level of responsibility for their businesses an
 d partners.Invest in Bravery brings more than a dozen international invest
 ors\, entrepreneurs\, C-level executives and companies from outside Ukrain
 e to Kyiv to show the rest of the world that you should not be afraid. The
 re is no need to wait. Ukraine is working now. Ukrainian companies are cap
 able of doing incredible things even under difficult circumstances – not
 hing can stop them – come join the success story – be a part of histor
 y – the time to engage with Ukraine is now!NOTE: The venue is in central
  Kyiv – the venue details will be provided to verified attendees only f
 or security reasons.\nRegistration is MUST!\n \n
URL:https://www.spcr.cz/invest-braveryit
DTSTART:20230419T100000
DTEND:20230419T213000
LOCATION:
END:VEVENT
END:VCALENDAR
