BEGIN:VCALENDAR
PRODID:-//eluceo/ical//2.0/EN
VERSION:2.0
CALSCALE:GREGORIAN
BEGIN:VEVENT
UID:05aefa98394de3ff41bd36a968c26429
DTSTAMP:20260423T173605Z
SUMMARY:Online seminář: RUMUNSKO - příležitosti pro české exportéry
DESCRIPTION:Název akce: Online seminář: RUMUNSKO - příležitosti pro 
 české exportéry\nURL: https://www.spcr.cz/online-seminar-rumunsko-prile
 zitosti-pro-ceske-exportery\nPopis: \n\nExportní online seminář\, kter
 ý nabídne praktické aktuální informace pro české firmy od ředitele
  zahraniční kanceláře CzechTrade v Rumunsku\, Kryštofa Rýgla.\n\nExp
 ortní příležitosti pro české firmy v Rumunsku\nObchodní kultura\, j
 ak správně vyhledávat partnery a na co si dát pozor\nStrategie vstupu 
 na daný trh\, překážky\, příležitosti a praktické tipy pro obchodo
 vání\nAsistence kanceláře CzechTrade v Rumunsku\n\nRegistrace na semin
 ář zde. \n
URL:https://www.spcr.cz/online-seminar-rumunsko-prilezitosti-pro-ceske-expo
 rtery
DTSTART:20230516T100000
DTEND:20230516T113000
LOCATION:
END:VEVENT
END:VCALENDAR
