BEGIN:VCALENDAR
PRODID:-//eluceo/ical//2.0/EN
VERSION:2.0
CALSCALE:GREGORIAN
BEGIN:VEVENT
UID:694b2f7fd6c12888c5ed236ac2663d5d
DTSTAMP:20260423T145022Z
SUMMARY:LinkedIn pro exportéry
DESCRIPTION:Název akce: LinkedIn pro exportéry\nURL: https://www.spcr.cz/
 linkedin-pro-exportery-1\nPopis: \n\nChcete poradit\, jak efektivně využ
 ívat největší profesní síť LinkedIn? Na našem semináři se dozví
 te\, jak vyhledávat a získávat nové obchodní kontakty\, udržovat vzt
 ah se svými obchodními partnery/zákazníky či jak se vhodně prezentov
 at jako firma i jednotlivec. Zároveň také\, jak si na LinkedIn vybudov
 at profil a pracovat s nástroji\, které tato profesní síť nabízí.\
 n\nJak na profil společnosti/osobní profil (optimalizace\, klíčová sl
 ova\, reference)\nJak na LinkedIn vyhledávat a získávat nové kontakty\
 nJak se prezentovat vůči obchodním partnerům a zákazníkům\nJak psá
 t zajímavé příspěvky a zaujmout publikum na LinkedIn\nJak na expanzi 
 na zahraniční trhy pomocí LinkedIn\nPraktická část pro účastníky 
 – součástí kurzu je i úprava vlastních profilů\n\nRegistrace na ak
 ci zde. \n
URL:https://www.spcr.cz/linkedin-pro-exportery-1
DTSTART:20230427T090000
DTEND:20230427T160000
LOCATION:
END:VEVENT
END:VCALENDAR
