BEGIN:VCALENDAR
PRODID:-//eluceo/ical//2.0/EN
VERSION:2.0
CALSCALE:GREGORIAN
BEGIN:VEVENT
UID:7437c74cee02834d74861c60b2b2984d
DTSTAMP:20260423T150052Z
SUMMARY:Konference o investování do IT na Ukrajině
DESCRIPTION:Název akce: Konference o investování do IT na Ukrajině\nURL
 : https://www.spcr.cz/konference-o-investovani-do-it-na-ukrajine\nPopis: \
 n\nThe mission of the Invest in Bravery - IT conference is to show the wor
 ld that the Ukrainian IT and high tech sectors never stopped - despite eve
 rything\, the Ukrainian IT sector grew in 2022. We will highlight how Ukra
 inians work\, what they are capable of\, how they are able to stay product
 ive and meet and exceed expectations\, and how they partner in internation
 al projects - overcoming difficulties\, maintaining business and service c
 ontinuity\, meeting deadlines\, and the overall high level of responsibili
 ty for their businesses and partners.Invest in Bravery brings more than a 
 dozen international investors\, entrepreneurs\, C-level executives and com
 panies from outside Ukraine to Kyiv to show the rest of the world that you
  should not be afraid. There is no need to wait. Ukraine is working now. U
 krainian companies are capable of doing incredible things even under diffi
 cult circumstances - nothing can stop them - come join the success story -
  be a part of history - the time to engage with Ukraine is now!\nRegistrat
 ion link: https://event.investinbravery.com/cs\nContact info: Invest in B
 ravery+1 858 306 1002\, +380 68 105 01 40\, +420 777 279 144info@investinb
 ravery.com\n
URL:https://www.spcr.cz/konference-o-investovani-do-it-na-ukrajine
DTSTART:20230419T100000
DTEND:20230419T170000
LOCATION:
END:VEVENT
END:VCALENDAR
