BEGIN:VCALENDAR
PRODID:-//eluceo/ical//2.0/EN
VERSION:2.0
CALSCALE:GREGORIAN
BEGIN:VEVENT
UID:68defe162cd8e36d36e56ac7be3869a7
DTSTAMP:20260423T162731Z
SUMMARY:Obchodní příležitosti v Německu\, Rakousku\, Slovensku a Polsk
 u
DESCRIPTION:Název akce: Obchodní příležitosti v Německu\, Rakousku\, 
 Slovensku a Polsku\nURL: https://www.spcr.cz/obchodni-prilezitosti-v-nemec
 ku-rakousku-slovensku-polsku\nPopis: \n\nZúčastněte se konference o akt
 uálních obchodních a investičních příležitostech pro české firmy
  na trzích v Německu\, Rakousku\, Slovensku a Polsku.\nNa konferenci do 
 Prahy se registrujte na emailu: AkceOED@mzv.cz. Kapacita akcí je omezena
 .\nVíce informací\n
URL:https://www.spcr.cz/obchodni-prilezitosti-v-nemecku-rakousku-slovensku-
 polsku
DTSTART:20230420T100000
DTEND:20230420T235959
LOCATION:
END:VEVENT
END:VCALENDAR
