BEGIN:VCALENDAR
PRODID:-//eluceo/ical//2.0/EN
VERSION:2.0
CALSCALE:GREGORIAN
BEGIN:VEVENT
UID:bd26e5c5603398da2b610ab83c79e278
DTSTAMP:20260423T150144Z
SUMMARY:Online seminář: Doprava zboží v mezinárodním obchodu
DESCRIPTION:Název akce: Online seminář: Doprava zboží v mezinárodním
  obchodu\nURL: https://www.spcr.cz/online-seminar-doprava-zbozi-v-mezinaro
 dnim-obchodu-0\nPopis: \n\nZnalost zákonitostí i zvláštností mezinár
 odní přepravy by mělo být základní výbavou mimo jiné i pro obchodn
 íky s přeshraniční působností. Seminář " Doprava zboží v meziná
 rodním obchodu“ nabídne vhled do těchto okruhů fungování logistiky
 :\n\nDopravce a přepravce\, Smlouva o přepravě\, základní body jejíh
 o obsahu\nNámořní přeprava\, na co si dát pozor při sjednávání a 
 co očekávat po nalodění\nLetecká přeprava\, výhody i nevýhody\nŽe
 lezniční přeprava na dlouhé vzdálenosti jako alternativa k dopravě p
 o moři\nMůže i transkontinentální silniční přeprava být opcí pro
  dovoz zboží?\nAktuální problémy v přepravě zboží z DV\nJaké dod
 ací podmínky Incoterms zvolit pro jaké přepravy\nPojistit či nepojist
 it\n\nOTÁZKY a ODPOVĚDI\nDůležité:\n\nSvé dotazy k tématu můžete 
 zaslat před online seminářem prostřednictvím přihlášky\, nebo pros
 třednictvím chatu na akci.\nDen před konáním akce Vám e-mailem zašl
 eme prolink na danou akci.\nK účasti na online semináři potřebujete p
 ouze PC\, notebook či telefon s internetovým připojením. \n\nRegistra
 ce na akci je možná přes tento odkaz. \n
URL:https://www.spcr.cz/online-seminar-doprava-zbozi-v-mezinarodnim-obchodu
 -0
DTSTART:20230503T090000
DTEND:20230503T130000
LOCATION:
END:VEVENT
END:VCALENDAR
