BEGIN:VCALENDAR
PRODID:-//eluceo/ical//2.0/EN
VERSION:2.0
CALSCALE:GREGORIAN
BEGIN:VEVENT
UID:a2e97785704585398d88d867db7a799c
DTSTAMP:20260423T162731Z
SUMMARY:Online seminář: Největší chyby českých podnikatelů v Němec
 ku
DESCRIPTION:Název akce: Online seminář: Největší chyby českých podn
 ikatelů v Německu\nURL: https://www.spcr.cz/online-seminar-nejvetsi-chyb
 y-ceskych-podnikatelu-v-nemecku\nPopis: \n\nNěmecký trh je díky svým 8
 4 milionům potenciálních zákazníků a snadnému doručování zboží
  jednou ze zemí\, kam čeští podnikatelé nejčastěji zaměřují svou
  pozornost. Jak se ale na novém trhu vyznat a vyhnout se případným pro
 blémům?\nTento seminář Vám pomůže porozumět specifikům německéh
 o podnikání a vyhnout se chybám\, které mohou vzniknout kvůli neznalo
 sti německých právních předpisů. Ačkoliv jsme blízké sousede a ob
 a jsme členové EU existuji nadále podstatné rozdíly ve právních př
 edpisu ale i ve právnické praxe.Anotace:\n\nPotřebuji společnost?\nPř
 edstavení právní formy\nSpolečnost s ručením omezeným/podnikatelsk
 á společnost\nZaložení GmbH\nRozdíly v pracovním právu\nMinimální
  mzda v Německu\nDaňové minimum\nFinanční náročnost vymáhání poh
 ledávek\nDvě překvapení hlavně pro B2B: § 133 Insolvenčního řádu
 \nObchodní rejstřík\, transparenční rejstřík\, další moznosti zí
 skávaní informace online\nBusiness to Business/Business to Consumer\nVš
 eobecné obchodní podmínky\nVOP obsahová kontrola\nNemovitosti – nák
 up\, nájem\nImpressum\nAbmahnung - chcete dostat takový dopis?\nUpomínk
 y zneužívající povahy\nShrnutí rizikových oblastí – obchod\nQ&A\n
 \nWebinářem vás provede partner Arthur Braun\, M.A. a advokát Dr. i
 ur. Tomáš Chmelík\, LL.M. –němečtí advokáti a usazení evropští
  advokáti v České republice s dlouholetými zkušenostmi z obou jurisdi
 kcí.\nDalší informace:\n\nSvé dotazy k tématu můžete zaslat před o
 nline seminářem prostřednictvím přihlášky\, nebo prostřednictvím 
 chatu na akci.\nDen před konáním akce Vám e-mailem zašleme prolink na
  danou akci.\nAkce je ZDARMA. \n\nLink na registraci na akci je zde. \n
URL:https://www.spcr.cz/online-seminar-nejvetsi-chyby-ceskych-podnikatelu-v
 -nemecku
DTSTART:20230425T100000
DTEND:20230425T120000
LOCATION:
END:VEVENT
END:VCALENDAR
