BEGIN:VCALENDAR
PRODID:-//eluceo/ical//2.0/EN
VERSION:2.0
CALSCALE:GREGORIAN
BEGIN:VEVENT
UID:5b1bd3ac0ffbf717b257f682a9928e8e
DTSTAMP:20260423T162819Z
SUMMARY:Online seminář: Jak si chránit duševní vlastnictví (nejen) p
 ři exportu
DESCRIPTION:Název akce: Online seminář: Jak si chránit duševní vlastn
 ictví (nejen) při exportu\nURL: https://www.spcr.cz/online-seminar-jak-s
 i-chranit-dusevni-vlastnictvi-nejen-pri-exportu\nPopis: \n\nCo lze chráni
 t patentem u nás a co v jiných zemích? Jak zvolit originální název\,
  který nebude porušovat průmyslová práva ostatních? Kdy je lepší 
 řešení utajit\, a kdy se naopak vyplatí je zveřejnit nebo chránit?Na
  online semináři vám představíme základy ochrany duševního vlastni
 ctví\, které by měl každý úspěšný exportér znát.Nabídneme prak
 tické rady\, jak pro sebe využít práv plynoucích z patentů\, užitn
 ých vzorů\, ochranných známek či průmyslových vzorů a vyhnout se r
 izikům s nimi spojeným.Dozvíte se například:\n\nkdy využít patent\,
  a kdy je na místě ochranná známka\njaké lhůty si pohlídat při roz
 šiřování ochrany do zahraničí\njak si ochránit inovativní design s
 vého výrobku\, aplikace a webu\nkolik se vyplatí do ochrany investovat 
 a jakými způsoby můžete získat velkou část svých investic zpět\nj
 akou roli v prosazování vašich práv mohou hrát provozovatelé marketp
 laces\n\nChybět nebudou ani aktuální informace o dotační výzvě MPO 
 „Inovační vouchery – ochrana práv průmyslového vlastnictví“ a 
 fondu SME od EUIPO\, díky kterým můžete získat zpět až 75 % náklad
 ů na služby patentových zástupců a úřední poplatky.\nLink na regis
 traci na seminář zde. \n
URL:https://www.spcr.cz/online-seminar-jak-si-chranit-dusevni-vlastnictvi-n
 ejen-pri-exportu
DTSTART:20230412T100000
DTEND:20230412T113000
LOCATION:
END:VEVENT
END:VCALENDAR
