BEGIN:VCALENDAR
PRODID:-//eluceo/ical//2.0/EN
VERSION:2.0
CALSCALE:GREGORIAN
BEGIN:VEVENT
UID:658782f20a3053b745e912a284e203cd
DTSTAMP:20260423T163341Z
SUMMARY:Podnikatelská mise do Chile a Uruguaye
DESCRIPTION:Název akce: Podnikatelská mise do Chile a Uruguaye\nURL: http
 s://www.spcr.cz/podnikatelska-mise-do-chile-uruguaye-1\nPopis: \n\nVe dnec
 h 3.–10. června 2023 je plánovaná doprovodná podnikatelská mise min
 istra životního prostředí ČR\, pana Petra Hladíka\, do Chile a Urugu
 aye\, kterou bude společně s kanceláří pana ministra organizovat Svaz
  průmyslu a dopravy ČR.\nNávštěva bude v oblasti ekonomické spolupr
 áce zaměřena zejména na obory související s udržitelností\, vodoh
 ospodářstvím\, cirkulární ekonomikou\, odpadovým hospodářstvím a 
 geologií. \nÚčast je doporučena jak firmám\, které již mají navá
 zané vztahy a partnery v Latinské Americe a chtějí partnerství podpo
 řit\, tak i firmám\, které se začínají o teritoria zajímat\, stejn
 ě tak začínajícím firmám a startupům. Účastnické firmy budou mí
 t jedinečnou příležitost využít pozitivního vlivu politické delega
 ce\, která s sebou přináší možnosti setkání mj. s vrcholovým mana
 gementem chilských a uruguayských firem.\nSoučástí předběžného pr
 ogramu podnikatelské delegace\, který je nyní v jednání\, bude 8.6. o
 tevření českého stánku na uruguayském EXPO pro udržitelnost (EXPO U
 RUGUAY SOSTENIBLE 2023)\, které se bude konat ve dnech 8.-11.6.2023\, s 
 možností vystavení propagačních materiálů. Součástí budou i podn
 ikatelská fóra a B2B jednání českých firem s jejich partnery v obou 
 navštívených zemích\, která zahájí pan ministr. V jednání jsou i 
 návštěvy lokálně realizovaných projektů a vybraných firem za úča
 sti české oficiální delegace včetně pana ministra a další program.
 \nDalší podrobný program bude doplňován a upřesňován.\nUzávěrka 
 závazných přihlášek je 19. května 2023.\nZálohová cena za účast 
 v podnikatelské delegaci je 54.000\,- Kč včetně DPH pro členy Svazu
  průmyslu a dopravy ČR a 60.000\,- Kč včetně DPH pro nečleny. Obsah 
 účastnického balíčku je rozepsán v přihlášce.\nPřihlášení na
  podnikatelskou misi zahrnuje 4 kroky:\n\nVyplnění a podepsání závaz
 né přihlášky\, její naskenování a zaslání e-mailem na adresu hko
 tkova@spcr.cz nejpozději do 12. května 2023 do 15:00.\nSoučasně s p
 řihláškou je nutné vyplnit i elektronický formulář\, který obsah
 uje informace nezbytné pro Vaše uvedení v katalogu podnikatelské mise
 \, vyhledání vhodných partnerů pro B2B networking\, ale i pro odbaven
 í v letadle vládní letky či ubytování v hotelu.\nZaslání scanu d
 atové stránky vašeho pasu (platnost pasu min. 6 měsíců po návratu z
 pět do ČR) a elektronickou verzi/scan Vaší pasové fotografie.\nZaslá
 ní vyplnění jednoho vzorového snímku v PowerPointu do společné pre
 zentace\, která bude promítána v rámci networkingových akcí.\n\nUpo
 zorňujeme\, že bez vyplnění elektronického formuláře nemůžeme Va
 ši přihlášku zpracovat. Výběr místních firem a partnerů pro netwo
 rking bude probíhat na základě Vámi dodaných profilů a informací o 
 Vaší firmě v tomto elektronickém formuláři.  Prosíme proto o co 
 nejkonkrétnější upřesnění Vašich zájmů.\nPři vyplňování prof
 ilu mějte prosím na paměti\, že slouží také jako podklad pro výrob
 u prezentačního tištěného katalogu mise\, jehož cílem je co nejlép
 e druhou stranu seznámit s profily a kontaktními údaji zúčastněných
  firem. Výrobu katalogu zajišťuje pro Svaz průmyslu a dopravy externí
  dodavatel Copy General\, jehož zástupce Vás během přípravy mise bud
 e kontaktovat s prosbou o dodání fotografie účastníka mise a později
  s návrhem stránky k autorizaci. Snahou je vytvořit profesionální a p
 řehledný tištěný materiál s informacemi o všech účastnících.\nV
  případě zájmu prezentace Vaší firmy na EXPO URUGUAY SOSTENIBLE 202
 3  připomínáme včasnou přípravu prezentačního materiálu a zváž
 ení jazykové mutace (angličtina/španělština). Prezentační materiá
 l každý účastník poveze ve vlastním zavazadle\, následně bude dne 
 7.6. předán organizátorům EXPO (o organizačních detailech budete vč
 as informováni).\nPo obdržení Vaší závazné přihlášky a proveden
 í elektronické registrace Vám zašleme další pokyny a zálohovou fakt
 uru na účastnický poplatek. Další podklady a informace Vám budeme pr
 ůběžně zasílat elektronickou poštou. \nPodnikatelskou misi organiza
 čně zajišťuje manažerka Sekce vnějších vztahů Ing. Helena Kotkov
 á (hkotkova@spcr.cz). Bližší informace Vám poskytne případně i na 
 tel. ​733 126 501.\nVzhledem k omezené kapacitě prosíme o včasnou r
 egistraci. Pořadatelé si vyhrazují právo odmítnout zájemce o účast
  s ohledem na vhodnost oborového zaměření\, či v případě převis
 u poptávky nad počtem míst v letadle. Děkujeme za pochopení.\nTěší
 me se na Vaši účast a spolupráci s Vámi.\n
URL:https://www.spcr.cz/podnikatelska-mise-do-chile-uruguaye-1
DTSTART:20230603T000000
DTEND:20230610T235959
LOCATION:
END:VEVENT
END:VCALENDAR
