BEGIN:VCALENDAR
PRODID:-//eluceo/ical//2.0/EN
VERSION:2.0
CALSCALE:GREGORIAN
BEGIN:VEVENT
UID:3ca33b414695f5b6afc93639dec751da
DTSTAMP:20260423T125705Z
SUMMARY:7th Meeting of the China-CEEC Business Council in Ningbo
DESCRIPTION:Název akce: 7th Meeting of the China-CEEC Business Council in 
 Ningbo\nURL: https://www.spcr.cz/7th-meeting-china-ceec-business-council-n
 ingbo\nPopis: \n\nThe 7th Meeting of China-CEEC Business Council is tenta
 tively scheduled for May 14-17th 2023\, at the Ningbo International Confe
 rence Center\, in the form of a combination of online and offline. A new v
 ersion of agenda and the registration form form are enclosed in for you
 r reference.\nThe organizer will offer accommodation (3 nights) with meals
  and shuttle service in Ningbo during the meeting for all participants fro
 m your esteemed organization.\nIn order to facilitate our preparations for
  this meeting\, please kindly confirm the participation of your esteemed o
 rganization by email us ‘Annex2 Registration Form’ no later than Apri
 l 12th.\nEnterprises who want to participate in online B2B matchmaking s
 hould send us ‘Annex3 Information Form for B2B Matchmaking (Company only
 )’ by email before April 12th. Specific arrangements of online B2B matc
 hmaking will be notified by emails.\nWhile enterprises participating in o
 ffline B2B matchmaking should submit both Annex2 and Annex3 by email bef
 ore April 12th.\nContact information:\nMs. Zhu Yunge（Rose）\nDepartment
  of  Bilateral CooperationTEL: （+86）010-86431029E-mail: zhuyunge@cc
 oic.cn China Chamber of International Commerce\n
URL:https://www.spcr.cz/7th-meeting-china-ceec-business-council-ningbo
DTSTART:20230515T080000
DTEND:20230515T170000
LOCATION:
END:VEVENT
END:VCALENDAR
