BEGIN:VCALENDAR
PRODID:-//eluceo/ical//2.0/EN
VERSION:2.0
CALSCALE:GREGORIAN
BEGIN:VEVENT
UID:344e6f3005b926cbdc17febf4716c442
DTSTAMP:20260423T125013Z
SUMMARY:CEE Regional Investment Conference 2023
DESCRIPTION:Název akce: CEE Regional Investment Conference 2023\nURL: http
 s://www.spcr.cz/cee-regional-investment-conference-2023\nPopis: \n\nThe CE
 E Regional Investment Conference is the top investment industry event in 
 the CEE region\, organized and hosted by CFA Society Czech Republic with s
 upport from CFA Institute.\nThis one-day forum will feature several presen
 tations and panel discussions with notable speakers aiming to deliver opin
 ions and perspectives on the current state and way forward in the CEE regi
 on.\nMain presenters include prominent economists\, successful investors\,
  state regulators\, decision makers and executive representatives of diffe
 rent business areas both from Czech Republic and abroad\, who will share i
 nsights on monetary policy\, economic outlook\, energy crisis and its cons
 equences for capital market\, and current issues of the CEE capital market
 .\nThe event will be held in english.\n
URL:https://www.spcr.cz/cee-regional-investment-conference-2023
DTSTART:20230420T080000
DTEND:20230420T170000
LOCATION:
END:VEVENT
END:VCALENDAR
