BEGIN:VCALENDAR
PRODID:-//eluceo/ical//2.0/EN
VERSION:2.0
CALSCALE:GREGORIAN
BEGIN:VEVENT
UID:fb4d00700b3a6fde092a626cab93fe91
DTSTAMP:20260423T192929Z
SUMMARY:Česko-slovenské podnikatelské fórum v Bratislavě
DESCRIPTION:Název akce: Česko-slovenské podnikatelské fórum v Bratisla
 vě\nURL: https://www.spcr.cz/cesko-slovenske-podnikatelske-forum-v-bratis
 lave\nPopis: \n\nRádi bychom Vás informovali\, že dne 10. května 2023 
 se v Bratislavě uskuteční "Česko-slovenské podnikatelské fórum 2023
 "\, které je součástí širšího podnikatelského fóra "International
  Business Day 2023".   Oproti loňskému fóru\, které proběhlo v Žilin
 ě\, je v letošním roce novinkou\, že české firmy se mohou\, kromě B
 2B jednání se slovenskými firmami\, registrovat rovněž na B2B jednán
 í s rakouskými a maďarskými firmami a mají tak unikátní možnost v
 ést všechna tato jednání na jednom místě. Tuto možnost máme díky 
 spolupráci se slovenským spolurealizátorem fóra - Slovenskou agenturou
  pro rozvoj investic a obchodu SARIO. Od 9:00 do 11:00 hod. budou probíha
 t panelové diskuse\, které budou zaměřeny zejména na "Success Story" 
 slovenských firem a také na možnosti spolupráce při poválečné obno
 vě Ukrajiny.  Registrace a účast pro české firmy je bezplatná\, ví
 ce inforamcí k dispozici zde. \n
URL:https://www.spcr.cz/cesko-slovenske-podnikatelske-forum-v-bratislave
DTSTART:20230510T080000
DTEND:20230510T170000
LOCATION:
END:VEVENT
END:VCALENDAR
